BEGIN:VCALENDAR
VERSION:2.0
PRODID:-//Sabre//Sabre VObject 4.5.8//EN
CALSCALE:GREGORIAN
LAST-MODIFIED:20230609T164947Z
BEGIN:VTIMEZONE
TZID:Etc/UTC
BEGIN:STANDARD
DTSTART:20220618T210000
TZOFFSETFROM:+0000
TZOFFSETTO:+0000
TZNAME:UTC
END:STANDARD
END:VTIMEZONE
BEGIN:VEVENT
UID:54ba1f73-d78d-481e-8465-0aea9f838de7
DTSTAMP:20230609T164947Z
SUMMARY:Media WG meeting
DTSTART;TZID=Etc/UTC:20230613T210000
DTEND;TZID=Etc/UTC:20230613T220000
DESCRIPTION:https://www.w3.org/events/meetings/54ba1f73-d78d-481e-8465-0aea
 9f838de7/\n\n### Agenda\n\n**Please note the change in meeting time\, this
  is to allow @jyavenard to join to discuss any Managed Media Source questi
 ons**\n\nThis agenda can be viewed and updated on [GitHub](https://github.
 com/w3c/media-wg/blob/main/meetings/2023-06-13-Media_Working_Group_Telecon
 ference-agenda.md).\n\nIf you would like to add an item to the agenda or v
 olunteer to scribe please open a pull request against this agenda.\n\n* [w
 3c/webcodecs#478 Coding Tool configuration (Content hints in VideoEncoderC
 onfig)](https://github.com/w3c/webcodecs/issues/478) - @aboba\n\n* [w3c/me
 dia-source#320 Proposal: ManagedMediaSource API](https://github.com/w3c/me
 dia-source/issues/320)\n\nChanges or additions to the agenda are welcome.\
 n\n### Media Working Group Teleconference - 2023-06-13\n\n| Location | Dat
 e & Time |\n| -------- | ----------- |\n| San Francisco (U.S.A.) | Tuesday
 \, June 13 at 2:00 PM PDT |\n| Boston (U.S.A.) | Tuesday\, June 13 at 5:00
  PM EDT |\n| London (United Kingdom) | Tuesday\, June 13 at 10:00 PM GMT+1
  |\n| Paris (France) | Tuesday\, June 13 at 11:00 PM GMT+2 |\n| Tokyo (Jap
 an) | Wednesday\, June 14 at 6:00 AM GMT+9 |\n| Corresponding UTC (GMT) | 
 Tuesday\, June 13 at 9:00 PM UTC |\n\n### Logistics\n\nChairs: Jer Noble\,
  Chris Needham\n\nZoom: https://lists.w3.org/Archives/Member/w3c-archive/2
 023May/0295.html\n\nIRC: https://irc.w3.org/?channels=#mediawg\n\nIf you a
 re unable to login to view the call details please ask on IRC before the c
 all.
STATUS:CONFIRMED
CREATED:20230607T192739Z
LAST-MODIFIED:20230609T164947Z
SEQUENCE:2
ORGANIZER;CN=W3C Calendar;PARTSTAT=ACCEPTED;ROLE=NON-PARTICIPANT:mailto:nor
 eply@w3.org
ATTENDEE;CUTYPE=GROUP;ROLE=OPT-PARTICIPANT;RSVP=FALSE;CN=Media Working Grou
 p:mailto:public-media-wg@w3.org
END:VEVENT
END:VCALENDAR
