BEGIN:VCALENDAR
VERSION:2.0
PRODID:-//Sabre//Sabre VObject 4.5.8//EN
CALSCALE:GREGORIAN
LAST-MODIFIED:20240816T090800Z
BEGIN:VTIMEZONE
TZID:Europe/Berlin
X-MICROSOFT-CDO-TZID:4
BEGIN:STANDARD
DTSTART:20221030T010000
TZOFFSETFROM:+0200
TZOFFSETTO:+0100
TZNAME:CET
END:STANDARD
BEGIN:STANDARD
DTSTART:20231029T010000
TZOFFSETFROM:+0200
TZOFFSETTO:+0100
TZNAME:CET
END:STANDARD
BEGIN:STANDARD
DTSTART:20241027T010000
TZOFFSETFROM:+0200
TZOFFSETTO:+0100
TZNAME:CET
END:STANDARD
BEGIN:DAYLIGHT
DTSTART:20230326T010000
TZOFFSETFROM:+0100
TZOFFSETTO:+0200
TZNAME:CEST
END:DAYLIGHT
BEGIN:DAYLIGHT
DTSTART:20240331T010000
TZOFFSETFROM:+0100
TZOFFSETTO:+0200
TZNAME:CEST
END:DAYLIGHT
BEGIN:DAYLIGHT
DTSTART:20250330T010000
TZOFFSETFROM:+0100
TZOFFSETTO:+0200
TZNAME:CEST
END:DAYLIGHT
END:VTIMEZONE
BEGIN:VEVENT
UID:52f1f269-2180-4a23-b8e1-57880c8ba953
DTSTAMP:20231013T173312Z
SUMMARY:WoT CG - What is WoT Tutorial - Weekly Call
DTSTART;TZID=Europe/Berlin:20231020T100000
DTEND;TZID=Europe/Berlin:20231020T110000
DESCRIPTION:https://www.w3.org/events/meetings/52f1f269-2180-4a23-b8e1-5788
 0c8ba953/\n\nIn this call\, we discuss the further development of the What
  is WoT tutorial\, its website and videos. The discussions are recorded in
  the related GitHub issues and Pull Requests.
STATUS:CONFIRMED
CREATED:20231013T173302Z
LAST-MODIFIED:20231013T173312Z
SEQUENCE:0
ORGANIZER;CN=W3C Calendar;PARTSTAT=ACCEPTED;ROLE=NON-PARTICIPANT:mailto:nor
 eply@w3.org
ATTENDEE;CUTYPE=GROUP;ROLE=OPT-PARTICIPANT;RSVP=FALSE;CN=Web of Things Comm
 unity Group:mailto:public-web-of-things@w3.org
RRULE:FREQ=WEEKLY;UNTIL=20240928T080000Z;INTERVAL=1;BYDAY=FR;WKST=MO
END:VEVENT
BEGIN:VEVENT
UID:52f1f269-2180-4a23-b8e1-57880c8ba953
DTSTAMP:20231017T080440Z
SUMMARY:WoT CG - What is WoT Tutorial - Weekly Call
DTSTART;TZID=Europe/Berlin:20231020T100000
DTEND;TZID=Europe/Berlin:20231020T110000
DESCRIPTION:https://www.w3.org/events/meetings/52f1f269-2180-4a23-b8e1-5788
 0c8ba953/20231020T100000/\n\nSorry it was meant to start next week.\n\nIn 
 this call\, we discuss the further development of the What is WoT tutorial
 \, its website and videos. The discussions are recorded in the related Git
 Hub issues and Pull Requests.
STATUS:CANCELLED
CREATED:20231017T080432Z
LAST-MODIFIED:20231017T080440Z
SEQUENCE:1
ORGANIZER;CN=W3C Calendar;PARTSTAT=ACCEPTED;ROLE=NON-PARTICIPANT:mailto:nor
 eply@w3.org
ATTENDEE;CUTYPE=GROUP;ROLE=OPT-PARTICIPANT;RSVP=FALSE;CN=Web of Things Comm
 unity Group:mailto:public-web-of-things@w3.org
RECURRENCE-ID;TZID=Europe/Berlin:20231020T100000
END:VEVENT
BEGIN:VEVENT
UID:52f1f269-2180-4a23-b8e1-57880c8ba953
DTSTAMP:20231208T092022Z
SUMMARY:WoT CG - What is WoT Tutorial - Weekly Call
DTSTART;TZID=Europe/Berlin:20231215T100000
DTEND;TZID=Europe/Berlin:20231215T110000
DESCRIPTION:https://www.w3.org/events/meetings/52f1f269-2180-4a23-b8e1-5788
 0c8ba953/20231215T100000/\n\nEge Korkan is not available to moderate the c
 all on this day. We will cancel.\n\nIn this call\, we discuss the further 
 development of the What is WoT tutorial\, its website and videos. The disc
 ussions are recorded in the related GitHub issues and Pull Requests.
STATUS:CANCELLED
CREATED:20231208T092014Z
LAST-MODIFIED:20231208T092022Z
SEQUENCE:1
ORGANIZER;CN=W3C Calendar;PARTSTAT=ACCEPTED;ROLE=NON-PARTICIPANT:mailto:nor
 eply@w3.org
ATTENDEE;CUTYPE=GROUP;ROLE=OPT-PARTICIPANT;RSVP=FALSE;CN=Web of Things Comm
 unity Group:mailto:public-web-of-things@w3.org
RECURRENCE-ID;TZID=Europe/Berlin:20231215T100000
END:VEVENT
BEGIN:VEVENT
UID:52f1f269-2180-4a23-b8e1-57880c8ba953
DTSTAMP:20231208T092509Z
SUMMARY:WoT CG - What is WoT Tutorial - Weekly Call
DTSTART;TZID=Europe/Berlin:20231229T100000
DTEND;TZID=Europe/Berlin:20231229T110000
DESCRIPTION:https://www.w3.org/events/meetings/52f1f269-2180-4a23-b8e1-5788
 0c8ba953/20231229T100000/\n\nCancelled due to holiday season\n\nIn this ca
 ll\, we discuss the further development of the What is WoT tutorial\, its 
 website and videos. The discussions are recorded in the related GitHub iss
 ues and Pull Requests.
STATUS:CANCELLED
CREATED:20231208T092501Z
LAST-MODIFIED:20231208T092509Z
SEQUENCE:1
ORGANIZER;CN=W3C Calendar;PARTSTAT=ACCEPTED;ROLE=NON-PARTICIPANT:mailto:nor
 eply@w3.org
ATTENDEE;CUTYPE=GROUP;ROLE=OPT-PARTICIPANT;RSVP=FALSE;CN=Web of Things Comm
 unity Group:mailto:public-web-of-things@w3.org
RECURRENCE-ID;TZID=Europe/Berlin:20231229T100000
END:VEVENT
BEGIN:VEVENT
UID:52f1f269-2180-4a23-b8e1-57880c8ba953
DTSTAMP:20231221T152500Z
SUMMARY:WoT CG - What is WoT Tutorial - Weekly Call
DTSTART;TZID=Europe/Berlin:20240105T100000
DTEND;TZID=Europe/Berlin:20240105T110000
DESCRIPTION:https://www.w3.org/events/meetings/52f1f269-2180-4a23-b8e1-5788
 0c8ba953/20240105T100000/\n\nCancelled due to holiday season\n\nIn this ca
 ll\, we discuss the further development of the What is WoT tutorial\, its 
 website and videos. The discussions are recorded in the related GitHub iss
 ues and Pull Requests.
STATUS:CANCELLED
CREATED:20231208T092514Z
LAST-MODIFIED:20231221T152500Z
SEQUENCE:1
ORGANIZER;CN=W3C Calendar;PARTSTAT=ACCEPTED;ROLE=NON-PARTICIPANT:mailto:nor
 eply@w3.org
ATTENDEE;CUTYPE=GROUP;ROLE=OPT-PARTICIPANT;RSVP=FALSE;CN=Web of Things Comm
 unity Group:mailto:public-web-of-things@w3.org
RECURRENCE-ID;TZID=Europe/Berlin:20240105T100000
END:VEVENT
BEGIN:VEVENT
UID:52f1f269-2180-4a23-b8e1-57880c8ba953
DTSTAMP:20231219T090507Z
SUMMARY:WoT CG - What is WoT Tutorial - Weekly Call
DTSTART;TZID=Europe/Berlin:20231221T103000
DTEND;TZID=Europe/Berlin:20231221T113000
DESCRIPTION:https://www.w3.org/events/meetings/52f1f269-2180-4a23-b8e1-5788
 0c8ba953/20231222T100000/\n\nDue to a conflict\, we have to move the call 
 this week.\n\nIn this call\, we discuss the further development of the Wha
 t is WoT tutorial\, its website and videos. The discussions are recorded i
 n the related GitHub issues and Pull Requests.
STATUS:CONFIRMED
CREATED:20231219T090458Z
LAST-MODIFIED:20231219T090507Z
SEQUENCE:1
ORGANIZER;CN=W3C Calendar;PARTSTAT=ACCEPTED;ROLE=NON-PARTICIPANT:mailto:nor
 eply@w3.org
ATTENDEE;CUTYPE=GROUP;ROLE=OPT-PARTICIPANT;RSVP=FALSE;CN=Web of Things Comm
 unity Group:mailto:public-web-of-things@w3.org
RECURRENCE-ID;TZID=Europe/Berlin:20231222T100000
END:VEVENT
BEGIN:VEVENT
UID:52f1f269-2180-4a23-b8e1-57880c8ba953
DTSTAMP:20240208T223441Z
SUMMARY:WoT CG - What is WoT Tutorial - Weekly Call
DTSTART;TZID=Europe/Berlin:20240209T100000
DTEND;TZID=Europe/Berlin:20240209T110000
DESCRIPTION:https://www.w3.org/events/meetings/52f1f269-2180-4a23-b8e1-5788
 0c8ba953/20240209T100000/\n\nI have to cancel this due to a conflict. Sorr
 y for the last minute decision.
STATUS:CANCELLED
CREATED:20240208T223433Z
LAST-MODIFIED:20240208T223441Z
SEQUENCE:1
ORGANIZER;CN=W3C Calendar;PARTSTAT=ACCEPTED;ROLE=NON-PARTICIPANT:mailto:nor
 eply@w3.org
ATTENDEE;CUTYPE=GROUP;ROLE=OPT-PARTICIPANT;RSVP=FALSE;CN=Web of Things Comm
 unity Group:mailto:public-web-of-things@w3.org
RECURRENCE-ID;TZID=Europe/Berlin:20240209T100000
END:VEVENT
BEGIN:VEVENT
UID:52f1f269-2180-4a23-b8e1-57880c8ba953
DTSTAMP:20240216T093055Z
SUMMARY:WoT CG - What is WoT Tutorial - Weekly Call
DTSTART;TZID=Europe/Berlin:20240223T100000
DTEND;TZID=Europe/Berlin:20240223T110000
DESCRIPTION:https://www.w3.org/events/meetings/52f1f269-2180-4a23-b8e1-5788
 0c8ba953/20240223T100000/\n\nCancelled due to unavailibility
STATUS:CANCELLED
CREATED:20240216T093047Z
LAST-MODIFIED:20240216T093055Z
SEQUENCE:1
ORGANIZER;CN=W3C Calendar;PARTSTAT=ACCEPTED;ROLE=NON-PARTICIPANT:mailto:nor
 eply@w3.org
ATTENDEE;CUTYPE=GROUP;ROLE=OPT-PARTICIPANT;RSVP=FALSE;CN=Web of Things Comm
 unity Group:mailto:public-web-of-things@w3.org
RECURRENCE-ID;TZID=Europe/Berlin:20240223T100000
END:VEVENT
BEGIN:VEVENT
UID:52f1f269-2180-4a23-b8e1-57880c8ba953
DTSTAMP:20240308T081051Z
SUMMARY:WoT CG - What is WoT Tutorial - Weekly Call
DTSTART;TZID=Europe/Berlin:20240308T150000
DTEND;TZID=Europe/Berlin:20240308T153000
DESCRIPTION:https://www.w3.org/events/meetings/52f1f269-2180-4a23-b8e1-5788
 0c8ba953/20240308T100000/\n\nChanging it for once this week. Sorry for the
  late notice but the usual participants are ok with the change.\n\nIn this
  call\, we discuss the further development of the What is WoT tutorial\, i
 ts website and videos. The discussions are recorded in the related GitHub 
 issues and Pull Requests.
STATUS:CONFIRMED
CREATED:20240308T081044Z
LAST-MODIFIED:20240308T081051Z
SEQUENCE:1
ORGANIZER;CN=W3C Calendar;PARTSTAT=ACCEPTED;ROLE=NON-PARTICIPANT:mailto:nor
 eply@w3.org
ATTENDEE;CUTYPE=GROUP;ROLE=OPT-PARTICIPANT;RSVP=FALSE;CN=Web of Things Comm
 unity Group:mailto:public-web-of-things@w3.org
RECURRENCE-ID;TZID=Europe/Berlin:20240308T100000
END:VEVENT
BEGIN:VEVENT
UID:52f1f269-2180-4a23-b8e1-57880c8ba953
DTSTAMP:20240324T221453Z
SUMMARY:WoT CG - What is WoT Tutorial - Weekly Call
DTSTART;TZID=Europe/Berlin:20240329T100000
DTEND;TZID=Europe/Berlin:20240329T110000
DESCRIPTION:https://www.w3.org/events/meetings/52f1f269-2180-4a23-b8e1-5788
 0c8ba953/20240329T100000/\n\nPublic Holiday in Germany\n\nIn this call\, w
 e discuss the further development of the What is WoT tutorial\, its websit
 e and videos. The discussions are recorded in the related GitHub issues an
 d Pull Requests.
STATUS:CANCELLED
CREATED:20240324T221451Z
LAST-MODIFIED:20240324T221453Z
SEQUENCE:1
ORGANIZER;CN=W3C Calendar;PARTSTAT=ACCEPTED;ROLE=NON-PARTICIPANT:mailto:nor
 eply@w3.org
ATTENDEE;CUTYPE=GROUP;ROLE=OPT-PARTICIPANT;RSVP=FALSE;CN=Web of Things Comm
 unity Group:mailto:public-web-of-things@w3.org
RECURRENCE-ID;TZID=Europe/Berlin:20240329T100000
END:VEVENT
BEGIN:VEVENT
UID:52f1f269-2180-4a23-b8e1-57880c8ba953
DTSTAMP:20240405T085859Z
SUMMARY:WoT CG - What is WoT Tutorial - Weekly Call
DTSTART;TZID=Europe/Berlin:20240412T150000
DTEND;TZID=Europe/Berlin:20240412T160000
DESCRIPTION:https://www.w3.org/events/meetings/52f1f269-2180-4a23-b8e1-5788
 0c8ba953/20240412T100000/\n\nIn this call\, we discuss the further develop
 ment of the What is WoT tutorial\, its website and videos. The discussions
  are recorded in the related GitHub issues and Pull Requests.
STATUS:CONFIRMED
CREATED:20240405T085857Z
LAST-MODIFIED:20240405T085859Z
SEQUENCE:1
ORGANIZER;CN=W3C Calendar;PARTSTAT=ACCEPTED;ROLE=NON-PARTICIPANT:mailto:nor
 eply@w3.org
ATTENDEE;CUTYPE=GROUP;ROLE=OPT-PARTICIPANT;RSVP=FALSE;CN=Web of Things Comm
 unity Group:mailto:public-web-of-things@w3.org
RECURRENCE-ID;TZID=Europe/Berlin:20240412T100000
END:VEVENT
BEGIN:VEVENT
UID:52f1f269-2180-4a23-b8e1-57880c8ba953
DTSTAMP:20240503T125733Z
SUMMARY:WoT CG - What is WoT Tutorial - Weekly Call
DTSTART;TZID=Europe/Berlin:20240503T150000
DTEND;TZID=Europe/Berlin:20240503T160000
DESCRIPTION:https://www.w3.org/events/meetings/52f1f269-2180-4a23-b8e1-5788
 0c8ba953/20240503T100000/\n\nIn this call\, we discuss the further develop
 ment of the What is WoT tutorial\, its website and videos. The discussions
  are recorded in the related GitHub issues and Pull Requests.
STATUS:CANCELLED
CREATED:20240426T081247Z
LAST-MODIFIED:20240503T125733Z
SEQUENCE:2
ORGANIZER;CN=W3C Calendar;PARTSTAT=ACCEPTED;ROLE=NON-PARTICIPANT:mailto:nor
 eply@w3.org
ATTENDEE;CUTYPE=GROUP;ROLE=OPT-PARTICIPANT;RSVP=FALSE;CN=Web of Things Comm
 unity Group:mailto:public-web-of-things@w3.org
RECURRENCE-ID;TZID=Europe/Berlin:20240503T100000
END:VEVENT
BEGIN:VEVENT
UID:52f1f269-2180-4a23-b8e1-57880c8ba953
DTSTAMP:20240517T085913Z
SUMMARY:WoT CG - What is WoT Tutorial - Weekly Call
DTSTART;TZID=Europe/Berlin:20240524T100000
DTEND;TZID=Europe/Berlin:20240524T110000
DESCRIPTION:https://www.w3.org/events/meetings/52f1f269-2180-4a23-b8e1-5788
 0c8ba953/20240524T100000/\n\nPersonal time off of the moderator
STATUS:CANCELLED
CREATED:20240517T085910Z
LAST-MODIFIED:20240517T085913Z
SEQUENCE:1
ORGANIZER;CN=W3C Calendar;PARTSTAT=ACCEPTED;ROLE=NON-PARTICIPANT:mailto:nor
 eply@w3.org
ATTENDEE;CUTYPE=GROUP;ROLE=OPT-PARTICIPANT;RSVP=FALSE;CN=Web of Things Comm
 unity Group:mailto:public-web-of-things@w3.org
RECURRENCE-ID;TZID=Europe/Berlin:20240524T100000
END:VEVENT
BEGIN:VEVENT
UID:52f1f269-2180-4a23-b8e1-57880c8ba953
DTSTAMP:20240517T085931Z
SUMMARY:WoT CG - What is WoT Tutorial - Weekly Call
DTSTART;TZID=Europe/Berlin:20240531T100000
DTEND;TZID=Europe/Berlin:20240531T110000
DESCRIPTION:https://www.w3.org/events/meetings/52f1f269-2180-4a23-b8e1-5788
 0c8ba953/20240531T100000/\n\nPersonal time off of the moderator
STATUS:CANCELLED
CREATED:20240517T085929Z
LAST-MODIFIED:20240517T085931Z
SEQUENCE:1
ORGANIZER;CN=W3C Calendar;PARTSTAT=ACCEPTED;ROLE=NON-PARTICIPANT:mailto:nor
 eply@w3.org
ATTENDEE;CUTYPE=GROUP;ROLE=OPT-PARTICIPANT;RSVP=FALSE;CN=Web of Things Comm
 unity Group:mailto:public-web-of-things@w3.org
RECURRENCE-ID;TZID=Europe/Berlin:20240531T100000
END:VEVENT
BEGIN:VEVENT
UID:52f1f269-2180-4a23-b8e1-57880c8ba953
DTSTAMP:20240517T085946Z
SUMMARY:WoT CG - What is WoT Tutorial - Weekly Call
DTSTART;TZID=Europe/Berlin:20240607T100000
DTEND;TZID=Europe/Berlin:20240607T110000
DESCRIPTION:https://www.w3.org/events/meetings/52f1f269-2180-4a23-b8e1-5788
 0c8ba953/20240607T100000/\n\nPersonal time off of the moderator
STATUS:CANCELLED
CREATED:20240517T085945Z
LAST-MODIFIED:20240517T085946Z
SEQUENCE:1
ORGANIZER;CN=W3C Calendar;PARTSTAT=ACCEPTED;ROLE=NON-PARTICIPANT:mailto:nor
 eply@w3.org
ATTENDEE;CUTYPE=GROUP;ROLE=OPT-PARTICIPANT;RSVP=FALSE;CN=Web of Things Comm
 unity Group:mailto:public-web-of-things@w3.org
RECURRENCE-ID;TZID=Europe/Berlin:20240607T100000
END:VEVENT
BEGIN:VEVENT
UID:52f1f269-2180-4a23-b8e1-57880c8ba953
DTSTAMP:20240614T085511Z
SUMMARY:WoT CG - What is WoT Tutorial - Weekly Call
DTSTART;TZID=Europe/Berlin:20240621T100000
DTEND;TZID=Europe/Berlin:20240621T110000
DESCRIPTION:https://www.w3.org/events/meetings/52f1f269-2180-4a23-b8e1-5788
 0c8ba953/20240621T100000/\n\nModerator not available
STATUS:CANCELLED
CREATED:20240614T085509Z
LAST-MODIFIED:20240614T085511Z
SEQUENCE:1
ORGANIZER;CN=W3C Calendar;PARTSTAT=ACCEPTED;ROLE=NON-PARTICIPANT:mailto:nor
 eply@w3.org
ATTENDEE;CUTYPE=GROUP;ROLE=OPT-PARTICIPANT;RSVP=FALSE;CN=Web of Things Comm
 unity Group:mailto:public-web-of-things@w3.org
RECURRENCE-ID;TZID=Europe/Berlin:20240621T100000
END:VEVENT
BEGIN:VEVENT
UID:52f1f269-2180-4a23-b8e1-57880c8ba953
DTSTAMP:20240712T085926Z
SUMMARY:WoT CG - What is WoT Tutorial - Weekly Call
DTSTART;TZID=Europe/Berlin:20240719T100000
DTEND;TZID=Europe/Berlin:20240719T110000
DESCRIPTION:https://www.w3.org/events/meetings/52f1f269-2180-4a23-b8e1-5788
 0c8ba953/20240719T100000/\n\nCancelled due to unavailability of the modera
 tor.\n\nIn this call\, we discuss the further development of the What is W
 oT tutorial\, its website and videos. The discussions are recorded in the 
 related GitHub issues and Pull Requests.
STATUS:CANCELLED
CREATED:20240712T085924Z
LAST-MODIFIED:20240712T085926Z
SEQUENCE:1
ORGANIZER;CN=W3C Calendar;PARTSTAT=ACCEPTED;ROLE=NON-PARTICIPANT:mailto:nor
 eply@w3.org
ATTENDEE;CUTYPE=GROUP;ROLE=OPT-PARTICIPANT;RSVP=FALSE;CN=Web of Things Comm
 unity Group:mailto:public-web-of-things@w3.org
RECURRENCE-ID;TZID=Europe/Berlin:20240719T100000
END:VEVENT
BEGIN:VEVENT
UID:52f1f269-2180-4a23-b8e1-57880c8ba953
DTSTAMP:20240801T072741Z
SUMMARY:WoT CG - What is WoT Tutorial - Weekly Call
DTSTART;TZID=Europe/Berlin:20240823T100000
DTEND;TZID=Europe/Berlin:20240823T110000
DESCRIPTION:https://www.w3.org/events/meetings/52f1f269-2180-4a23-b8e1-5788
 0c8ba953/20240823T100000/\n\nHoliday Season Cancellation\n\nIn this call\,
  we discuss the further development of the What is WoT tutorial\, its webs
 ite and videos. The discussions are recorded in the related GitHub issues 
 and Pull Requests.
STATUS:CANCELLED
CREATED:20240801T072738Z
LAST-MODIFIED:20240801T072741Z
SEQUENCE:1
ORGANIZER;CN=W3C Calendar;PARTSTAT=ACCEPTED;ROLE=NON-PARTICIPANT:mailto:nor
 eply@w3.org
ATTENDEE;CUTYPE=GROUP;ROLE=OPT-PARTICIPANT;RSVP=FALSE;CN=Web of Things Comm
 unity Group:mailto:public-web-of-things@w3.org
RECURRENCE-ID;TZID=Europe/Berlin:20240823T100000
END:VEVENT
BEGIN:VEVENT
UID:52f1f269-2180-4a23-b8e1-57880c8ba953
DTSTAMP:20240801T072755Z
SUMMARY:WoT CG - What is WoT Tutorial - Weekly Call
DTSTART;TZID=Europe/Berlin:20240830T100000
DTEND;TZID=Europe/Berlin:20240830T110000
DESCRIPTION:https://www.w3.org/events/meetings/52f1f269-2180-4a23-b8e1-5788
 0c8ba953/20240830T100000/\n\nHoliday Season Cancellation\n\nIn this call\,
  we discuss the further development of the What is WoT tutorial\, its webs
 ite and videos. The discussions are recorded in the related GitHub issues 
 and Pull Requests.
STATUS:CANCELLED
CREATED:20240801T072753Z
LAST-MODIFIED:20240801T072755Z
SEQUENCE:1
ORGANIZER;CN=W3C Calendar;PARTSTAT=ACCEPTED;ROLE=NON-PARTICIPANT:mailto:nor
 eply@w3.org
ATTENDEE;CUTYPE=GROUP;ROLE=OPT-PARTICIPANT;RSVP=FALSE;CN=Web of Things Comm
 unity Group:mailto:public-web-of-things@w3.org
RECURRENCE-ID;TZID=Europe/Berlin:20240830T100000
END:VEVENT
BEGIN:VEVENT
UID:52f1f269-2180-4a23-b8e1-57880c8ba953
DTSTAMP:20240801T072827Z
SUMMARY:WoT CG - What is WoT Tutorial - Weekly Call
DTSTART;TZID=Europe/Berlin:20240906T100000
DTEND;TZID=Europe/Berlin:20240906T110000
DESCRIPTION:https://www.w3.org/events/meetings/52f1f269-2180-4a23-b8e1-5788
 0c8ba953/20240906T100000/\n\nHoliday Season Cancellation\n\nIn this call\,
  we discuss the further development of the What is WoT tutorial\, its webs
 ite and videos. The discussions are recorded in the related GitHub issues 
 and Pull Requests.
STATUS:CANCELLED
CREATED:20240801T072825Z
LAST-MODIFIED:20240801T072827Z
SEQUENCE:1
ORGANIZER;CN=W3C Calendar;PARTSTAT=ACCEPTED;ROLE=NON-PARTICIPANT:mailto:nor
 eply@w3.org
ATTENDEE;CUTYPE=GROUP;ROLE=OPT-PARTICIPANT;RSVP=FALSE;CN=Web of Things Comm
 unity Group:mailto:public-web-of-things@w3.org
RECURRENCE-ID;TZID=Europe/Berlin:20240906T100000
END:VEVENT
BEGIN:VEVENT
UID:52f1f269-2180-4a23-b8e1-57880c8ba953
DTSTAMP:20240802T071807Z
SUMMARY:WoT CG - What is WoT Tutorial - Weekly Call
DTSTART;TZID=Europe/Berlin:20240802T103000
DTEND;TZID=Europe/Berlin:20240802T110000
DESCRIPTION:https://www.w3.org/events/meetings/52f1f269-2180-4a23-b8e1-5788
 0c8ba953/20240802T100000/\n\nIn this call\, we discuss the further develop
 ment of the What is WoT tutorial\, its website and videos. The discussions
  are recorded in the related GitHub issues and Pull Requests.
STATUS:CONFIRMED
CREATED:20240802T071805Z
LAST-MODIFIED:20240802T071807Z
SEQUENCE:1
ORGANIZER;CN=W3C Calendar;PARTSTAT=ACCEPTED;ROLE=NON-PARTICIPANT:mailto:nor
 eply@w3.org
ATTENDEE;CUTYPE=GROUP;ROLE=OPT-PARTICIPANT;RSVP=FALSE;CN=Web of Things Comm
 unity Group:mailto:public-web-of-things@w3.org
RECURRENCE-ID;TZID=Europe/Berlin:20240802T100000
END:VEVENT
BEGIN:VEVENT
UID:52f1f269-2180-4a23-b8e1-57880c8ba953
DTSTAMP:20240816T090800Z
SUMMARY:WoT CG - What is WoT Tutorial - Weekly Call
DTSTART;TZID=Europe/Berlin:20240913T100000
DTEND;TZID=Europe/Berlin:20240913T110000
DESCRIPTION:https://www.w3.org/events/meetings/52f1f269-2180-4a23-b8e1-5788
 0c8ba953/20240913T100000/\n\nContributors not available\n\nIn this call\, 
 we discuss the further development of the What is WoT tutorial\, its websi
 te and videos. The discussions are recorded in the related GitHub issues a
 nd Pull Requests.
STATUS:CANCELLED
CREATED:20240816T090758Z
LAST-MODIFIED:20240816T090800Z
SEQUENCE:1
ORGANIZER;CN=W3C Calendar;PARTSTAT=ACCEPTED;ROLE=NON-PARTICIPANT:mailto:nor
 eply@w3.org
ATTENDEE;CUTYPE=GROUP;ROLE=OPT-PARTICIPANT;RSVP=FALSE;CN=Web of Things Comm
 unity Group:mailto:public-web-of-things@w3.org
RECURRENCE-ID;TZID=Europe/Berlin:20240913T100000
END:VEVENT
END:VCALENDAR
