BEGIN:VCALENDAR
VERSION:2.0
PRODID:-//Sabre//Sabre VObject 4.5.8//EN
CALSCALE:GREGORIAN
LAST-MODIFIED:20230410T111830Z
BEGIN:VTIMEZONE
TZID:Etc/UTC
BEGIN:STANDARD
DTSTART:20220416T130000
TZOFFSETFROM:+0000
TZOFFSETTO:+0000
TZNAME:UTC
END:STANDARD
END:VTIMEZONE
BEGIN:VEVENT
UID:52ca6b44-d196-4bd6-b1f8-dcd51101bf79
DTSTAMP:20230410T111830Z
SUMMARY:Board Governance Meeting
DTSTART;TZID=Etc/UTC:20230411T130000
DTEND;TZID=Etc/UTC:20230411T140000
DESCRIPTION:https://www.w3.org/events/meetings/52ca6b44-d196-4bd6-b1f8-dcd5
 1101bf79/\n\n\n\nAgenda\n\n1. Approve minutes\, 2023-03-14\n2. Review GitH
 ub issues list / project\n3. Documenting Organisational Structure (#13)\n4
 . Examine WCAP (#44)\n5. Contracts (#3\, #27\, #15)
STATUS:CONFIRMED
CREATED:20230405T042813Z
LAST-MODIFIED:20230410T111830Z
SEQUENCE:2
ORGANIZER;CN=W3C Calendar;PARTSTAT=ACCEPTED;ROLE=NON-PARTICIPANT:mailto:nor
 eply@w3.org
ATTENDEE;CUTYPE=GROUP;ROLE=OPT-PARTICIPANT;RSVP=FALSE;CN=Board Governance C
 ommittee:mailto:board-governance@w3.org
ATTENDEE;CUTYPE=GROUP;ROLE=OPT-PARTICIPANT;RSVP=FALSE;CN=Board of Directors
 :mailto:board@w3.org
END:VEVENT
END:VCALENDAR
