BEGIN:VCALENDAR
VERSION:2.0
PRODID:-//Sabre//Sabre VObject 4.5.8//EN
CALSCALE:GREGORIAN
LAST-MODIFIED:20220914T183106Z
BEGIN:VTIMEZONE
TZID:America/Vancouver
BEGIN:STANDARD
DTSTART:20211107T090000
TZOFFSETFROM:-0700
TZOFFSETTO:-0800
TZNAME:PST
END:STANDARD
BEGIN:STANDARD
DTSTART:20221106T090000
TZOFFSETFROM:-0700
TZOFFSETTO:-0800
TZNAME:PST
END:STANDARD
BEGIN:DAYLIGHT
DTSTART:20220313T100000
TZOFFSETFROM:-0800
TZOFFSETTO:-0700
TZNAME:PDT
END:DAYLIGHT
END:VTIMEZONE
BEGIN:VEVENT
UID:527d52eb-f8df-4875-844b-09a27a67d772
DTSTAMP:20220914T183106Z
SUMMARY:Multicast
DTSTART;TZID=America/Vancouver:20220914T111500
DTEND;TZID=America/Vancouver:20220914T121500
DESCRIPTION:https://www.w3.org/events/meetings/527d52eb-f8df-4875-844b-09a2
 7a67d772/\n\nUpdate on the Multicast Community Group activities: brief rev
 iew of motivation and purpose\, an overview of [draft-jholland-quic-multic
 ast](https://grumpyoldtroll.github.io/draft-jholland-quic-multicast/draft-
 jholland-quic-multicast.html) and status on the [aioquic](https://github.c
 om/MaxF12/aioquic) implementation\, and discussion of the path to browser 
 adoption.\n\nAgenda: https://docs.google.com/presentation/d/11dnGTxKtmSbjo
 8Wc6eR39v7l_8kcHzu84wt3VMh93Oo\n\nAgenda\n\n**Facilitators & speakers**: J
 ake Holland\n\n**Session type**: Talk followed by open discussion.\n\n**Su
 mmary**: Update on the Multicast Community Group activities: brief review 
 of motivation and purpose\, an overview of [draft-jholland-quic-multicast]
 (https://grumpyoldtroll.github.io/draft-jholland-quic-multicast/draft-jhol
 land-quic-multicast.html) and status on the [aioquic](https://github.com/M
 axF12/aioquic) implementation\, and discussion of the path to browser adop
 tion.\n\n**Slides**: https://docs.google.com/presentation/d/11dnGTxKtmSbjo
 8Wc6eR39v7l_8kcHzu84wt3VMh93Oo\n\n**Goals**:\n- give a status update\, gat
 her feedback\n\nJoining Instructions: https://us02web.zoom.us/j/5606146353
 ?pwd=UW43YWxLLzI2bGtXZjJRZzFXN0ZzZz09\n\nChat\n\nhttps://irc.w3.org/?chann
 els=%23multicast
STATUS:CONFIRMED
CREATED:20220909T111702Z
LAST-MODIFIED:20220914T183106Z
SEQUENCE:1
ORGANIZER;CN=W3C Calendar;PARTSTAT=ACCEPTED;ROLE=NON-PARTICIPANT:mailto:nor
 eply@w3.org
ATTENDEE;CN=christin cai:mailto:christincai@tencent.com
ATTENDEE;CN=Nic Jansma:mailto:nic@nicj.net
ATTENDEE;CN=Gregg Kellogg:mailto:gregg@greggkellogg.net
ATTENDEE;CN=Nigel Megitt:mailto:nigel.megitt@bbc.co.uk
ATTENDEE;CN=Enric Perpinyà:mailto:eperpinyapitarch@gmail.com
ATTENDEE;CN=David Singer:mailto:singer@mac.com
ATTENDEE;CN=Jeffrey Yasskin:mailto:jyasskin@google.com
LOCATION:Burrard — South Tower 4th floor
CATEGORIES:TPAC 2022,Breakout Sessions
END:VEVENT
END:VCALENDAR
