BEGIN:VCALENDAR
VERSION:2.0
PRODID:-//Sabre//Sabre VObject 4.5.8//EN
CALSCALE:GREGORIAN
LAST-MODIFIED:20230227T233341Z
BEGIN:VTIMEZONE
TZID:America/New_York
X-MICROSOFT-CDO-TZID:10
BEGIN:DAYLIGHT
DTSTART:20220313T070000
TZOFFSETFROM:-0500
TZOFFSETTO:-0400
TZNAME:EDT
END:DAYLIGHT
BEGIN:DAYLIGHT
DTSTART:20230312T070000
TZOFFSETFROM:-0500
TZOFFSETTO:-0400
TZNAME:EDT
END:DAYLIGHT
BEGIN:STANDARD
DTSTART:20221106T060000
TZOFFSETFROM:-0400
TZOFFSETTO:-0500
TZNAME:EST
END:STANDARD
END:VTIMEZONE
BEGIN:VEVENT
UID:51eaff72-f494-453a-8f21-02c0b4f99625
DTSTAMP:20230227T233341Z
SUMMARY:I18N ⇔ RDF*
DTSTART;TZID=America/New_York:20230302T113000
DTEND;TZID=America/New_York:20230302T120000
DESCRIPTION:https://www.w3.org/events/meetings/51eaff72-f494-453a-8f21-02c0
 b4f99625/\n\nJoint teleconference between I18N and RDF* organizers to talk
  about how to coordinate our work.\n\nThis call is scheduled in the `Ameri
 ca/New_York` time zone.\n\nThe I18N WG is on this invite (so that it appea
 rs in our group calendar) and members _may_ attend\, but are not required.
  This is primarily a conversation between the chairs and staff contacts.\n
 \nAgenda\n\n#### AGENDA\n\n**Topic: Agenda Review**\n_Send `agenda+` reque
 sts to the public-i18n-core@ list in advance of the meeting!_\n\n**Topic: 
 Discussion**\n\nQuoting Ora's email: _We have some issues we need to tackl
 e that are (strictly speaking) outside the original goal of the group\, bu
 t nonetheless fit within our broader chartered mission. Some of these are 
 I18N-related (like RTL text in RDF literals). We’d like to have a discus
 sion with you and maybe some others in your group to see how the two group
 s could coordinate work._\n\n**Topic: AOB?**\n\n---\n\n#### Chair's Link F
 arm\nhttps://www.w3.org/International/track/actions/open\nhttps://github.c
 om/w3c/i18n-request/projects/1\nhttps://github.com/w3c/i18n-activity/issue
 s?q=is%3Aissue+is%3Aopen+label%3Apending
STATUS:CONFIRMED
CREATED:20230227T233341Z
LAST-MODIFIED:20230227T233341Z
SEQUENCE:0
ORGANIZER;CN=W3C Calendar;PARTSTAT=ACCEPTED;ROLE=NON-PARTICIPANT:mailto:nor
 eply@w3.org
ATTENDEE;CUTYPE=GROUP;ROLE=OPT-PARTICIPANT;RSVP=FALSE;CN=Internationalizati
 on Working Group:mailto:public-i18n-core@w3.org
LOCATION:Location: https://www.w3.org/2017/09/i18n-meeting-info.html
END:VEVENT
END:VCALENDAR
