BEGIN:VCALENDAR
VERSION:2.0
PRODID:-//Sabre//Sabre VObject 4.5.8//EN
CALSCALE:GREGORIAN
LAST-MODIFIED:20220321T233444Z
BEGIN:VTIMEZONE
TZID:America/Los_Angeles
X-MICROSOFT-CDO-TZID:13
BEGIN:STANDARD
DTSTART:20211107T090000
TZOFFSETFROM:-0700
TZOFFSETTO:-0800
TZNAME:PST
END:STANDARD
BEGIN:STANDARD
DTSTART:20221106T090000
TZOFFSETFROM:-0700
TZOFFSETTO:-0800
TZNAME:PST
END:STANDARD
BEGIN:DAYLIGHT
DTSTART:20220313T100000
TZOFFSETFROM:-0800
TZOFFSETTO:-0700
TZNAME:PDT
END:DAYLIGHT
END:VTIMEZONE
BEGIN:VEVENT
UID:51beaaec-a57f-493b-96f2-c963b8881984
DTSTAMP:20220321T233444Z
SUMMARY:routing in single-page applications
DTSTART;TZID=America/Los_Angeles:20220324T090000
DTEND;TZID=America/Los_Angeles:20220324T100000
DESCRIPTION:https://www.w3.org/events/meetings/51beaaec-a57f-493b-96f2-c963
 b8881984/\n\nhttps://github.com/w3c/aria/issues/1353\n\nAgenda\n\n@melsumn
 er to provide
STATUS:CONFIRMED
CREATED:20220321T233443Z
LAST-MODIFIED:20220321T233444Z
SEQUENCE:0
ORGANIZER;CN=W3C Calendar;PARTSTAT=ACCEPTED;ROLE=NON-PARTICIPANT:mailto:nor
 eply@w3.org
ATTENDEE;CUTYPE=GROUP;ROLE=OPT-PARTICIPANT;RSVP=FALSE;CN=Accessible Rich In
 ternet Applications Working Group:mailto:public-aria@w3.org
END:VEVENT
END:VCALENDAR
