BEGIN:VCALENDAR
VERSION:2.0
PRODID:-//Sabre//Sabre VObject 4.5.8//EN
CALSCALE:GREGORIAN
LAST-MODIFIED:20250702T125904Z
BEGIN:VTIMEZONE
TZID:Asia/Hong_Kong
BEGIN:STANDARD
DTSTART:20240707T130000
TZOFFSETFROM:+0800
TZOFFSETTO:+0800
TZNAME:HKT
END:STANDARD
END:VTIMEZONE
BEGIN:VEVENT
UID:516bae3d-889c-488c-8fcc-1c9bec1835ab
DTSTAMP:20250702T125904Z
SUMMARY:AI Agent Protocol CG Meeting
DTSTART;TZID=Asia/Hong_Kong:20250702T210000
DTEND;TZID=Asia/Hong_Kong:20250702T220000
DESCRIPTION:https://www.w3.org/events/meetings/516bae3d-889c-488c-8fcc-1c9b
 ec1835ab/20250702T210000/\n\nThe AI Agent Protocol Community Group now hol
 ds regular bi-weekly online meetings\, and we warmly welcome your particip
 ation. You can find meeting schedules and participation details on our W3C
  calendar:\n\n👉 Meeting Calendar: https://www.w3.org/groups/cg/agentpro
 tocol/calendar/\n\nMeeting summaries are available on GitHub for convenien
 t asynchronous access to meeting content. If the current meeting times are
  not convenient for your timezone\, please let us know—we're happy to ad
 just one of the alternative meeting times to better accommodate global par
 ticipants.\n\nSlack:\n\nWe have established a dedicated channel in the W3C
  Community Slack.\n\nHow to Join:\n\n- If you have joined the W3C Communit
 y Slack\, please join Slack Channel Directly: https://w3ccommunity.slack.c
 om/archives/C091V1SCF8W\n\nOr:\n\n- Request Invitation: https://www.w3.org
 /slack-w3ccommunity-invite\n- After joining\, search for and join the #ai-
 agent-protocol channel to connect and communicate with other contributors\
 n\nAgenda\n\n1. Agenda Review & Announcements\n\n2. Draft of the White Pap
 er\n\n3. [Technical CG Report](https://w3c-cg.github.io/ai-agent-protocol/
 protocol.html)\n\n4. [issue #13: Approaches to agent discovery](https://gi
 thub.com/w3c-cg/ai-agent-protocol/issues/13)
STATUS:CONFIRMED
CREATED:20250702T125903Z
LAST-MODIFIED:20250702T125904Z
SEQUENCE:5
ORGANIZER;CN=W3C Calendar;PARTSTAT=ACCEPTED;ROLE=NON-PARTICIPANT:mailto:nor
 eply@w3.org
ATTENDEE;CUTYPE=GROUP;ROLE=OPT-PARTICIPANT;RSVP=FALSE;CN=AI Agent Protocol 
 Community Group:mailto:public-agentprotocol@w3.org
LOCATION:online Zoom meeting
RECURRENCE-ID;TZID=Asia/Hong_Kong:20250702T210000
END:VEVENT
END:VCALENDAR
