BEGIN:VCALENDAR
VERSION:2.0
PRODID:-//Sabre//Sabre VObject 4.5.8//EN
CALSCALE:GREGORIAN
LAST-MODIFIED:20230321T141759Z
BEGIN:VTIMEZONE
TZID:Etc/UTC
BEGIN:STANDARD
DTSTART:20220314T220000
TZOFFSETFROM:+0000
TZOFFSETTO:+0000
TZNAME:UTC
END:STANDARD
END:VTIMEZONE
BEGIN:VEVENT
UID:50a05042-782e-4571-aef9-dde77329636a
DTSTAMP:20230307T133137Z
SUMMARY:BoD Personnel Committee
DTSTART;TZID=Etc/UTC:20230309T220000
DTEND;TZID=Etc/UTC:20230309T230000
DESCRIPTION:https://www.w3.org/events/meetings/50a05042-782e-4571-aef9-dde7
 7329636a/\n\n
STATUS:TENTATIVE
CREATED:20230303T121436Z
LAST-MODIFIED:20230307T133137Z
SEQUENCE:0
ORGANIZER;CN=W3C Calendar;PARTSTAT=ACCEPTED;ROLE=NON-PARTICIPANT:mailto:nor
 eply@w3.org
ATTENDEE;CUTYPE=GROUP;ROLE=OPT-PARTICIPANT;RSVP=FALSE;CN=Board of Directors
 :mailto:board@w3.org
ATTENDEE;CUTYPE=GROUP;ROLE=OPT-PARTICIPANT;RSVP=FALSE;CN=Board Personnel Co
 mmittee:mailto:board-personnel@w3.org
RELATED-TO:2a5aee59-f4c3-42f8-af02-260a3510a213
RRULE:FREQ=WEEKLY;UNTIL=20230323T220000Z;INTERVAL=1;BYDAY=TH;WKST=MO
END:VEVENT
BEGIN:VEVENT
UID:50a05042-782e-4571-aef9-dde77329636a
DTSTAMP:20230307T133137Z
SUMMARY:[Canceled] BoD Personnel Committee
DTSTART;TZID=Etc/UTC:20230309T220000
DTEND;TZID=Etc/UTC:20230309T230000
DESCRIPTION:https://www.w3.org/events/meetings/50a05042-782e-4571-aef9-dde7
 7329636a/20230309T220000/\n\n
STATUS:CANCELLED
CREATED:20230307T133136Z
LAST-MODIFIED:20230307T133137Z
SEQUENCE:1
ORGANIZER;CN=W3C Calendar;PARTSTAT=ACCEPTED;ROLE=NON-PARTICIPANT:mailto:nor
 eply@w3.org
ATTENDEE;CUTYPE=GROUP;ROLE=OPT-PARTICIPANT;RSVP=FALSE;CN=Board of Directors
 :mailto:board@w3.org
ATTENDEE;CUTYPE=GROUP;ROLE=OPT-PARTICIPANT;RSVP=FALSE;CN=Board Personnel Co
 mmittee:mailto:board-personnel@w3.org
RECURRENCE-ID;TZID=Etc/UTC:20230309T220000
END:VEVENT
BEGIN:VEVENT
UID:50a05042-782e-4571-aef9-dde77329636a
DTSTAMP:20230321T141759Z
SUMMARY:BoD Personnel Committee
DTSTART;TZID=Etc/UTC:20230323T220000
DTEND;TZID=Etc/UTC:20230323T230000
DESCRIPTION:https://www.w3.org/events/meetings/50a05042-782e-4571-aef9-dde7
 7329636a/20230323T220000/\n\n
STATUS:CANCELLED
CREATED:20230321T141758Z
LAST-MODIFIED:20230321T141759Z
SEQUENCE:1
ORGANIZER;CN=W3C Calendar;PARTSTAT=ACCEPTED;ROLE=NON-PARTICIPANT:mailto:nor
 eply@w3.org
ATTENDEE;CUTYPE=GROUP;ROLE=OPT-PARTICIPANT;RSVP=FALSE;CN=Board of Directors
 :mailto:board@w3.org
ATTENDEE;CUTYPE=GROUP;ROLE=OPT-PARTICIPANT;RSVP=FALSE;CN=Board Personnel Co
 mmittee:mailto:board-personnel@w3.org
RECURRENCE-ID;TZID=Etc/UTC:20230323T220000
END:VEVENT
END:VCALENDAR
