BEGIN:VCALENDAR
VERSION:2.0
PRODID:-//Sabre//Sabre VObject 4.5.8//EN
CALSCALE:GREGORIAN
LAST-MODIFIED:20220914T233333Z
BEGIN:VTIMEZONE
TZID:America/Vancouver
BEGIN:STANDARD
DTSTART:20211107T090000
TZOFFSETFROM:-0700
TZOFFSETTO:-0800
TZNAME:PST
END:STANDARD
BEGIN:STANDARD
DTSTART:20221106T090000
TZOFFSETFROM:-0700
TZOFFSETTO:-0800
TZNAME:PST
END:STANDARD
BEGIN:DAYLIGHT
DTSTART:20220313T100000
TZOFFSETFROM:-0800
TZOFFSETTO:-0700
TZNAME:PDT
END:DAYLIGHT
END:VTIMEZONE
BEGIN:VEVENT
UID:505c7741-69d4-4d87-b4a9-21dcefd0bbf9
DTSTAMP:20220914T233333Z
SUMMARY:Trusted Internet
DTSTART;TZID=America/Vancouver:20220914T163000
DTEND;TZID=America/Vancouver:20220914T173000
DESCRIPTION:https://www.w3.org/events/meetings/505c7741-69d4-4d87-b4a9-21dc
 efd0bbf9/\n\nGive short presentation of overview on Trusted Internet that 
 makes arbitrary data verifiable on the Internet\, discuss and gather feedb
 ack.\n\nAgenda\n\n**Facilitators & speakers**: Takuya Sakamoto\, Shigeya S
 uzuki\n\n**Session type**: Presentation and Open Discussion \n\n**Summary*
 *: Give short presentation of overview on Trusted Internet that makes arbi
 trary data verifiable on the Internet\, discuss and gather feedback.\n\n**
 Goals**:\n- To find partners to discuss it with.\n\nJoining Instructions: 
 https://us02web.zoom.us/j/5896324424?pwd=SlI4YnpzY2tENG1MRVFjbHY0RzlFUT09\
 n\nChat\n\nhttps://irc.w3.org/?channels=%23trusted-internet
STATUS:CONFIRMED
CREATED:20220909T111710Z
LAST-MODIFIED:20220914T233333Z
SEQUENCE:1
ORGANIZER;CN=W3C Calendar;PARTSTAT=ACCEPTED;ROLE=NON-PARTICIPANT:mailto:nor
 eply@w3.org
ATTENDEE;CN=Ryosuke Abe:mailto:chike@sfc.keio.ac.jp
ATTENDEE;CN=Nick Doty:mailto:ndoty@cdt.org
ATTENDEE;CN=Masayuki Fukui:mailto:m-fukui@fujitsu.com
ATTENDEE;CN=Brian May:mailto:imbmaydst@gmail.com
ATTENDEE;CN=Koji Nakamichi:mailto:nakamichi@fujitsu.com
ATTENDEE;CN=Kazuaki Nimura:mailto:kazuaki.nimura@jp.fujitsu.com
ATTENDEE;CN=Shigeya Suzuki:mailto:shigeya@wide.ad.jp
ATTENDEE;CN=Chris Wilson:mailto:cwilso@gmail.com
ATTENDEE;CN=Jeffrey Yasskin:mailto:jyasskin@google.com
ATTENDEE;CN=Brent Zundel:mailto:brent.zundel@gmail.com
LOCATION:Granville — South Tower 4th floor
CATEGORIES:TPAC 2022,Breakout Sessions
END:VEVENT
END:VCALENDAR
