BEGIN:VCALENDAR
VERSION:2.0
PRODID:-//Sabre//Sabre VObject 4.5.8//EN
CALSCALE:GREGORIAN
LAST-MODIFIED:20221201T141259Z
BEGIN:VTIMEZONE
TZID:Etc/UTC
BEGIN:STANDARD
DTSTART:20211212T090000
TZOFFSETFROM:+0000
TZOFFSETTO:+0000
TZNAME:UTC
END:STANDARD
END:VTIMEZONE
BEGIN:VEVENT
UID:502c9817-9a91-4a83-aec9-bab5981fcb99
DTSTAMP:20221201T141259Z
SUMMARY:WebView Community Group re-charter FAQs
DTSTART;TZID=Etc/UTC:20221207T090000
DTEND;TZID=Etc/UTC:20221207T100000
DESCRIPTION:https://www.w3.org/events/meetings/502c9817-9a91-4a83-aec9-bab5
 981fcb99/\n\nTeleconference for the WebView Community Group\, intended to 
 go over the new charter and processes\n\nAgenda\n\n- Go over new charter\n
 - Go over new explainers repo
STATUS:CONFIRMED
CREATED:20221130T175858Z
LAST-MODIFIED:20221201T141259Z
SEQUENCE:2
ORGANIZER;CN=W3C Calendar;PARTSTAT=ACCEPTED;ROLE=NON-PARTICIPANT:mailto:nor
 eply@w3.org
ATTENDEE;CUTYPE=GROUP;ROLE=OPT-PARTICIPANT;RSVP=FALSE;CN=WebView Community 
 Group:mailto:public-webview@w3.org
END:VEVENT
END:VCALENDAR
