BEGIN:VCALENDAR
VERSION:2.0
PRODID:-//Sabre//Sabre VObject 4.5.8//EN
CALSCALE:GREGORIAN
LAST-MODIFIED:20220114T093301Z
BEGIN:VTIMEZONE
TZID:Etc/UTC
BEGIN:STANDARD
DTSTART:20210118T120000
TZOFFSETFROM:+0000
TZOFFSETTO:+0000
TZNAME:UTC
END:STANDARD
END:VTIMEZONE
BEGIN:VEVENT
UID:4f725180-a898-431c-835d-e72de0cd89a5
DTSTAMP:20220114T093301Z
SUMMARY:MiniApps CG Call
DTSTART;TZID=Etc/UTC:20220113T120000
DTEND;TZID=Etc/UTC:20220113T130000
DESCRIPTION:https://www.w3.org/events/meetings/4f725180-a898-431c-835d-e72d
 e0cd89a5/\n\nAgenda\n1.  Process of IoT @anqing\n2. Epub platform @jeff\n3
 . gap between MiniApp and web api @Martin\n4. AoB
STATUS:TENTATIVE
CREATED:20220111T063155Z
LAST-MODIFIED:20220114T093301Z
SEQUENCE:0
ORGANIZER;CN=W3C Calendar;PARTSTAT=ACCEPTED;ROLE=NON-PARTICIPANT:mailto:nor
 eply@w3.org
ATTENDEE;CUTYPE=GROUP;ROLE=OPT-PARTICIPANT;RSVP=FALSE;CN=MiniApps Ecosystem
  Community Group:mailto:public-miniapps@w3.org
END:VEVENT
END:VCALENDAR
