BEGIN:VCALENDAR
VERSION:2.0
PRODID:-//Sabre//Sabre VObject 4.5.8//EN
CALSCALE:GREGORIAN
LAST-MODIFIED:20211015T051942Z
BEGIN:VTIMEZONE
TZID:Etc/UTC
BEGIN:STANDARD
DTSTART:20201026T230000
TZOFFSETFROM:+0000
TZOFFSETTO:+0000
TZNAME:UTC
END:STANDARD
END:VTIMEZONE
BEGIN:VEVENT
UID:4eee203e-9515-4f84-9c20-ed636be71fbc
DTSTAMP:20211015T051942Z
SUMMARY:TPAC - Gamepad Meeting
DTSTART;TZID=Etc/UTC:20211021T230000
DTEND;TZID=Etc/UTC:20211022T000000
DESCRIPTION:https://www.w3.org/events/meetings/4eee203e-9515-4f84-9c20-ed63
 6be71fbc/\n\nMeet to discuss Gemepad API\, including upcoming changes. \n\
 nAgenda: \nhttps://github.com/w3c/gamepad/issues/154\n\nJoin via Google Me
 et:\nhttps://meet.google.com/suh-ywqq-koq
STATUS:CONFIRMED
CREATED:20211004T050156Z
LAST-MODIFIED:20211015T051942Z
SEQUENCE:3
ORGANIZER;CN=W3C Calendar;PARTSTAT=ACCEPTED;ROLE=NON-PARTICIPANT:mailto:nor
 eply@w3.org
ATTENDEE;CUTYPE=GROUP;ROLE=OPT-PARTICIPANT;RSVP=FALSE;CN=Web Applications W
 orking Group:mailto:public-webapps@w3.org
END:VEVENT
END:VCALENDAR
