BEGIN:VCALENDAR
VERSION:2.0
PRODID:-//Sabre//Sabre VObject 4.5.8//EN
CALSCALE:GREGORIAN
LAST-MODIFIED:20250414T163515Z
BEGIN:VTIMEZONE
TZID:America/New_York
X-MICROSOFT-CDO-TZID:10
BEGIN:STANDARD
DTSTART:20241103T060000
TZOFFSETFROM:-0400
TZOFFSETTO:-0500
TZNAME:EST
END:STANDARD
BEGIN:STANDARD
DTSTART:20251102T060000
TZOFFSETFROM:-0400
TZOFFSETTO:-0500
TZNAME:EST
END:STANDARD
BEGIN:DAYLIGHT
DTSTART:20250309T070000
TZOFFSETFROM:-0500
TZOFFSETTO:-0400
TZNAME:EDT
END:DAYLIGHT
END:VTIMEZONE
BEGIN:VEVENT
UID:4eaad648-22dd-473b-a268-822601691668
DTSTAMP:20250414T163515Z
SUMMARY:PDF-AAM meeting (third week)
DTSTART;TZID=America/New_York:20250416T130000
DTEND;TZID=America/New_York:20250416T133000
DESCRIPTION:https://www.w3.org/events/meetings/4eaad648-22dd-473b-a268-8226
 01691668/20250416T130000/\n\nI will be on holiday on 16 April\, but I am s
 till sending the invite in case you think it's worth going through current
 ly open pr on [First table imports](https://github.com/w3c/aria/pull/2466/
 )\n\nAgenda\n\n- [First table imports](https://github.com/w3c/aria/pull/24
 66/)\n- Status of [Current PDF-AAM open issues](https://www.github.com/w3c
 /pdf-aam/issues/)
STATUS:CONFIRMED
CREATED:20250414T163339Z
LAST-MODIFIED:20250414T163515Z
SEQUENCE:4
ORGANIZER;CN=W3C Calendar;PARTSTAT=ACCEPTED;ROLE=NON-PARTICIPANT:mailto:nor
 eply@w3.org
ATTENDEE;CUTYPE=GROUP;ROLE=OPT-PARTICIPANT;RSVP=FALSE;CN=PDF Accessibility 
 APIs Mapping (PDF-AAM) Task Force:mailto:public-pdf-aam@w3.org
RECURRENCE-ID;TZID=America/New_York:20250416T130000
END:VEVENT
END:VCALENDAR
