BEGIN:VCALENDAR
VERSION:2.0
PRODID:-//Sabre//Sabre VObject 4.5.8//EN
CALSCALE:GREGORIAN
LAST-MODIFIED:20240220T204320Z
BEGIN:VTIMEZONE
TZID:America/New_York
X-MICROSOFT-CDO-TZID:10
BEGIN:DAYLIGHT
DTSTART:20230312T070000
TZOFFSETFROM:-0500
TZOFFSETTO:-0400
TZNAME:EDT
END:DAYLIGHT
BEGIN:DAYLIGHT
DTSTART:20240310T070000
TZOFFSETFROM:-0500
TZOFFSETTO:-0400
TZNAME:EDT
END:DAYLIGHT
BEGIN:STANDARD
DTSTART:20231105T060000
TZOFFSETFROM:-0400
TZOFFSETTO:-0500
TZNAME:EST
END:STANDARD
END:VTIMEZONE
BEGIN:VEVENT
UID:4e0777f7-b15d-4c75-ab53-46e1f07d418c
DTSTAMP:20240220T204320Z
SUMMARY:WebAppSec WG monthly
DTSTART;TZID=America/New_York:20240221T120000
DTEND;TZID=America/New_York:20240221T130000
DESCRIPTION:https://www.w3.org/events/meetings/4e0777f7-b15d-4c75-ab53-46e1
 f07d418c/20240221T120000/\n\n[Live minutes](https://cryptpad.w3ctag.org/co
 de/#/2/code/edit/Pq1xOhFZ9oxeI5vrXwx--B3a/)\n\nAgenda: https://www.w3.org/
 Search/Mail/Public/search?keywords=&hdr-1-name=subject&hdr-1-query=agenda&
 index-grp=Public_FULL&index-type=t&type-index=public-webappsec
STATUS:CANCELLED
CREATED:20240109T200302Z
LAST-MODIFIED:20240220T204320Z
SEQUENCE:3
ORGANIZER;CN=W3C Calendar;PARTSTAT=ACCEPTED;ROLE=NON-PARTICIPANT:mailto:nor
 eply@w3.org
ATTENDEE;CUTYPE=GROUP;ROLE=OPT-PARTICIPANT;RSVP=FALSE;CN=Web Application Se
 curity Working Group:mailto:public-webappsec@w3.org
RECURRENCE-ID;TZID=America/New_York:20240221T120000
END:VEVENT
END:VCALENDAR
