BEGIN:VCALENDAR
VERSION:2.0
PRODID:-//Sabre//Sabre VObject 4.5.8//EN
CALSCALE:GREGORIAN
LAST-MODIFIED:20260219T062402Z
BEGIN:VTIMEZONE
TZID:Asia/Tokyo
X-MICROSOFT-CDO-TZID:20
BEGIN:STANDARD
DTSTART:20241117T054500
TZOFFSETFROM:+0900
TZOFFSETTO:+0900
TZNAME:JST
END:STANDARD
END:VTIMEZONE
BEGIN:VEVENT
UID:4dd94c3f-8527-477f-aa73-36db966efce9
DTSTAMP:20260219T062402Z
SUMMARY:Web Engines Hackfest / TPAC 2
DTSTART;TZID=Asia/Tokyo:20251112T144500
DTEND;TZID=Asia/Tokyo:20251112T154500
DESCRIPTION:https://www.w3.org/events/meetings/4dd94c3f-8527-477f-aa73-36db
 966efce9/\n\nSeveral times over the years\, ACs have discussed whether the
 re would be value in "another TPAC" but this is challenging for a whole lo
 t of practical reasons.  But what if it were simpler? What if it basically
  already existed?\n\nThe [Web Engines Hackfest](https://webengineshackfest
 .org/) has been held annually since 2009\, hosted by Igalia in A Coruña\,
  Galicia\, Spain.  For several years now we have hosted it at [palexco](ht
 tps://www.palexco.com/en/) a large conference venue.  It is "shaped" simil
 arly to TPAC in many ways\, with talks and breakout sessions on all things
  web\, and attendees from all of the major browser vendors (and numerous s
 maller ones!).\n\nIt would be interesting to discuss partnership/promotion
  and collaboration on the Hackfest's ability to play this role.\n\n**Goal(
 s):**\nTo discuss interest from wider W3C in exploring something like a se
 cond TPAC by way of the Hackfest\n\nAgenda\n\n**Materials:**\n- [Session p
 roposal on GitHub](https://github.com/w3c/tpac2025-breakouts/issues/12)
STATUS:CONFIRMED
CREATED:20251028T073421Z
LAST-MODIFIED:20260219T062402Z
SEQUENCE:3
ORGANIZER;CN=W3C Calendar;PARTSTAT=ACCEPTED;ROLE=NON-PARTICIPANT:mailto:nor
 eply@w3.org
LOCATION:Floor 4 - 406
CATEGORIES:TPAC 2025,Breakout Sessions
END:VEVENT
END:VCALENDAR
