BEGIN:VCALENDAR
VERSION:2.0
PRODID:-//Sabre//Sabre VObject 4.5.8//EN
CALSCALE:GREGORIAN
LAST-MODIFIED:20221014T161702Z
BEGIN:VTIMEZONE
TZID:Etc/UTC
BEGIN:STANDARD
DTSTART:20211009T210000
TZOFFSETFROM:+0000
TZOFFSETTO:+0000
TZNAME:UTC
END:STANDARD
END:VTIMEZONE
BEGIN:VEVENT
UID:4dac8352-213d-4654-8ac5-b28503a619ee
DTSTAMP:20221014T161702Z
SUMMARY:DCAT subgroup
DTSTART;TZID=Etc/UTC:20221004T210000
DTEND;TZID=Etc/UTC:20221004T220000
DESCRIPTION:https://www.w3.org/events/meetings/4dac8352-213d-4654-8ac5-b285
 03a619ee/20221004T210000/\n\nDCAT issues\n\n[Teleconference logistics](htt
 ps://www.w3.org/2017/dxwg/wiki/Meetings#How_to_connect_to_the_Data_Exchang
 e_Working_Group_weekly_call)\n\n[IRC](https://irc.w3.org/): #dxwgdcat on i
 rc.w3.org on port 6667\n\nAgenda: https://www.w3.org/2017/dxwg/wiki/Meetin
 gs:Telecon2022.09.20
STATUS:CONFIRMED
CREATED:20220919T101312Z
LAST-MODIFIED:20221014T161702Z
SEQUENCE:4
ORGANIZER;CN=W3C Calendar;PARTSTAT=ACCEPTED;ROLE=NON-PARTICIPANT:mailto:nor
 eply@w3.org
ATTENDEE;CUTYPE=GROUP;ROLE=OPT-PARTICIPANT;RSVP=FALSE;CN=Dataset Exchange W
 orking Group:mailto:public-dxwg-wg@w3.org
ATTENDEE;CUTYPE=GROUP;ROLE=OPT-PARTICIPANT;RSVP=FALSE;CN=DCAT Task Force:ma
 ilto:noreply@w3.org
RECURRENCE-ID;TZID=Etc/UTC:20221004T210000
END:VEVENT
END:VCALENDAR
