BEGIN:VCALENDAR
VERSION:2.0
PRODID:-//Sabre//Sabre VObject 4.5.8//EN
CALSCALE:GREGORIAN
LAST-MODIFIED:20251113T121945Z
BEGIN:VTIMEZONE
TZID:Asia/Tokyo
X-MICROSOFT-CDO-TZID:20
BEGIN:STANDARD
DTSTART:20241119T073000
TZOFFSETFROM:+0900
TZOFFSETTO:+0900
TZNAME:JST
END:STANDARD
END:VTIMEZONE
BEGIN:VEVENT
UID:4d16ca76-dc36-4bf2-914e-13c2ca89ad2d
DTSTAMP:20251113T121945Z
SUMMARY:Text and Data Mining Reservation Protocol Community Group
DTSTART;TZID=Asia/Tokyo:20251114T163000
DTEND;TZID=Asia/Tokyo:20251114T180000
DESCRIPTION:https://www.w3.org/events/meetings/4d16ca76-dc36-4bf2-914e-13c2
 ca89ad2d/\n\nFor newcomers\, we'll make a rapid history of the TDM Reserva
 tion Protocol and synthesize the specification. We'll show its level of ad
 option.  \nWe'll then present the relationships between the EU Copyright D
 irective and TDMRep\, the EU AI Act and AI Code of Pactice and the IETF AI
  Pref effort. \nFor those who don't follow AI Pref\, we'll describe succin
 ctly what it is and its current state\, and the main differences between T
 DMRep and AI Pref. \nWe'll then discuss a possible evolution of TDMRep\, u
 sing the Vocabulary defined by AI Pref. \nWe'll also rapidly discuss the f
 uture standardization of TDMRep.
STATUS:CONFIRMED
CREATED:20250716T142811Z
LAST-MODIFIED:20251113T121945Z
SEQUENCE:9
ORGANIZER;CN=W3C Calendar;PARTSTAT=ACCEPTED;ROLE=NON-PARTICIPANT:mailto:nor
 eply@w3.org
ATTENDEE;CUTYPE=GROUP;ROLE=OPT-PARTICIPANT;RSVP=FALSE;CN=Text and Data Mini
 ng Reservation Protocol Community Group:mailto:public-tdmrep@w3.org
LOCATION:Floor 3 - 306
CATEGORIES:TPAC 2025,Group Meetings
END:VEVENT
END:VCALENDAR
