BEGIN:VCALENDAR
VERSION:2.0
PRODID:-//Sabre//Sabre VObject 4.5.8//EN
CALSCALE:GREGORIAN
LAST-MODIFIED:20250804T124557Z
BEGIN:VTIMEZONE
TZID:America/New_York
X-MICROSOFT-CDO-TZID:10
BEGIN:STANDARD
DTSTART:20241103T060000
TZOFFSETFROM:-0400
TZOFFSETTO:-0500
TZNAME:EST
END:STANDARD
BEGIN:STANDARD
DTSTART:20251102T060000
TZOFFSETFROM:-0400
TZOFFSETTO:-0500
TZNAME:EST
END:STANDARD
BEGIN:DAYLIGHT
DTSTART:20250309T070000
TZOFFSETFROM:-0500
TZOFFSETTO:-0400
TZNAME:EDT
END:DAYLIGHT
END:VTIMEZONE
BEGIN:VEVENT
UID:4c6e2be4-29d7-4d54-859f-cdc0590919d4
DTSTAMP:20250804T124557Z
SUMMARY:PDF-AAM (first week)
DTSTART;TZID=America/New_York:20250806T130000
DTEND;TZID=America/New_York:20250806T133000
DESCRIPTION:https://www.w3.org/events/meetings/4c6e2be4-29d7-4d54-859f-cdc0
 590919d4/20250806T130000/\n\nI will be missing the 6 august meeting due to
  holiday. Will catch up with you all on the 20th.\n\nI would recommend usi
 ng this meeting time to check-in on the remaining changes to the import sc
 ript\, as well as on the prose that needs to be added as per Valerie's com
 ments on the pR for it to land.\n\nAgenda\n\n* Work status\n* [Initial imp
 ort PR](https://github.com/w3c/pdf-aam/pull/6) to be moved to [ARIA repo](
 https://github.com/w3c/aria/)\n* Next steps for Working Group review and F
 irst Public Working Draft Publication
STATUS:CONFIRMED
CREATED:20250804T124557Z
LAST-MODIFIED:20250804T124557Z
SEQUENCE:3
ORGANIZER;CN=W3C Calendar;PARTSTAT=ACCEPTED;ROLE=NON-PARTICIPANT:mailto:nor
 eply@w3.org
ATTENDEE;CUTYPE=GROUP;ROLE=OPT-PARTICIPANT;RSVP=FALSE;CN=PDF Accessibility 
 APIs Mapping (PDF-AAM) Task Force:mailto:public-pdf-aam@w3.org
RECURRENCE-ID;TZID=America/New_York:20250806T130000
END:VEVENT
END:VCALENDAR
