BEGIN:VCALENDAR
VERSION:2.0
PRODID:-//Sabre//Sabre VObject 4.5.8//EN
CALSCALE:GREGORIAN
LAST-MODIFIED:20230704T195930Z
BEGIN:VTIMEZONE
TZID:America/New_York
X-MICROSOFT-CDO-TZID:10
BEGIN:STANDARD
DTSTART:20221106T060000
TZOFFSETFROM:-0400
TZOFFSETTO:-0500
TZNAME:EST
END:STANDARD
BEGIN:STANDARD
DTSTART:20231105T060000
TZOFFSETFROM:-0400
TZOFFSETTO:-0500
TZNAME:EST
END:STANDARD
BEGIN:DAYLIGHT
DTSTART:20230312T070000
TZOFFSETFROM:-0500
TZOFFSETTO:-0400
TZNAME:EDT
END:DAYLIGHT
END:VTIMEZONE
BEGIN:VEVENT
UID:4c1567bd-3a53-4930-9b6a-6763fbd10588
DTSTAMP:20230704T195930Z
SUMMARY:W3C CCG - Traceability Updates
DTSTART;TZID=America/New_York:20230905T120000
DTEND;TZID=America/New_York:20230905T125000
DESCRIPTION:https://www.w3.org/events/meetings/4c1567bd-3a53-4930-9b6a-6763
 fbd10588/20230905T120000/\n\nUpdates from Traceability Working Group.\nMee
 ting Link:  https://meet.w3c-ccg.org/weekly\nMinutes:  https://w3c-ccg.git
 hub.io/meetings/\nGithub: https://github.com/w3c-ccg\n\nAgenda\n\n1. Agend
 a Review \n2. Code of Ethics & Professional Conduct Reminder https://www.w
 3.org/Consortium/cepc/ \n3. IP Note: \nAnyone can participate in these cal
 ls. However\, all substantive contributors to any CCG Work Items must be m
 embers of the CCG with full IPR agreements signed. https://www.w3.org/comm
 unity/credentials/join\n    a. Ensure you have a W3 account: https://www.w
 3.org/accounts/request\n    b. W3C COMMUNITY CONTRIBUTOR LICENSE AGREEMENT
  (CLA):\nhttps://www.w3.org/community/about/agreements/cla/\n4. Call Notes
  \n    a. These minutes and an audio recording of everything said on this 
 call are archived at https://w3c-ccg.github.io/meetings/\n    b. We use IR
 C to queue speakers during the call as well as to take minutes. http://irc
 .w3.org/?channels=ccg or http://irc.w3.org:6665/#ccg or the Jitsi text cha
 t.\n    c. In IRC type “q+” to add yourself to the queue\, with an opt
 ional reminder\, e.g.\, “q+ to mention something”. The “to” is req
 uired.\n    d. If you’re not on the chat\, simply ask to be put on the q
 ueue.\n    e. Please be brief so the rest of the queue get a chance to chi
 me in. You can always q+ again.\n    f. NOTE: This meeting is held by voic
 e\, not by IRC. Off-topic IRC comments are subject to deletion from the re
 cord. We work hard to manage a single thread of conversation so everyone c
 an participate and be heard. Please respect the group process by joining t
 he queue when you have something to contribute.\n5. Optional Scribe Select
 ion \nWe need a volunteer to scribe in case auto transcription fails. Scri
 be List:\nhttps://docs.google.com/document/d/1LkqZ10z7FeV3EgMIQEJ9achEYMzy
 1d_2S90Q_lQ0y8M/edit?usp=sharing\n6. Introductions & Reintroductions (see 
 scribe doc for reintroduce column)\n7. Announcements & Reminders https://w
 3c-ccg.github.io/announcements/\n8. Progress on Action Items \nhttps://git
 hub.com/w3c-ccg/community/issues?q=is%3Aopen+is%3Aissue+label%3A%22action%
 3A+review+next%22\n9. Presentations\n10. General Q&A\n\nJoining Instructio
 ns: https://meet.w3c-ccg.org/weekly\n\nJoining Instructions\n\nJitsi Telec
 onference:\n      https://meet.w3c-ccg.org/weekly\n\nText Chat:\n      htt
 p://irc.w3.org/?channels=ccg\n      irc://irc.w3.org:6665/#ccg\n\nVoice:\n
      US phone: tel:+1.602.932.2243\;1
STATUS:CONFIRMED
CREATED:20230703T205517Z
LAST-MODIFIED:20230704T195930Z
SEQUENCE:4
ORGANIZER;CN=W3C Calendar;PARTSTAT=ACCEPTED;ROLE=NON-PARTICIPANT:mailto:nor
 eply@w3.org
ATTENDEE;CUTYPE=GROUP;ROLE=OPT-PARTICIPANT;RSVP=FALSE;CN=Credentials Commun
 ity Group:mailto:public-credentials@w3.org
RECURRENCE-ID;TZID=America/New_York:20230905T120000
END:VEVENT
END:VCALENDAR
