BEGIN:VCALENDAR
VERSION:2.0
PRODID:-//Sabre//Sabre VObject 4.5.8//EN
CALSCALE:GREGORIAN
LAST-MODIFIED:20230313T222313Z
BEGIN:VTIMEZONE
TZID:America/New_York
X-MICROSOFT-CDO-TZID:10
BEGIN:STANDARD
DTSTART:20221106T060000
TZOFFSETFROM:-0400
TZOFFSETTO:-0500
TZNAME:EST
END:STANDARD
BEGIN:STANDARD
DTSTART:20231105T060000
TZOFFSETFROM:-0400
TZOFFSETTO:-0500
TZNAME:EST
END:STANDARD
BEGIN:DAYLIGHT
DTSTART:20230312T070000
TZOFFSETFROM:-0500
TZOFFSETTO:-0400
TZNAME:EDT
END:DAYLIGHT
END:VTIMEZONE
BEGIN:VEVENT
UID:4c11d5fe-125a-4fb2-bd22-f0fc36dc21ae
DTSTAMP:20230313T222313Z
SUMMARY:JSON-LD CG Meeting
DTSTART;TZID=America/New_York:20230315T120000
DTEND;TZID=America/New_York:20230315T125500
DESCRIPTION:https://www.w3.org/events/meetings/4c11d5fe-125a-4fb2-bd22-f0fc
 36dc21ae/20230315T120000/\n\nDiscussion of outstanding JSON-LD issues\, YA
 ML-LD and related material.\n\nGeneral discussion about JSON-LD for anyone
  interested.\n\nAgenda\n\n1. Announcements and Introductions\n------------
 -------------------------\n\n2. YAML-LD\n------------\n\n3. Open Discussio
 n\n-------------------\n\nOpen discussion and "Ask me Anything" on JSON-LD
  topics.\n\n4. Next call\n---------------------
STATUS:CANCELLED
CREATED:20230313T222312Z
LAST-MODIFIED:20230313T222313Z
SEQUENCE:1
ORGANIZER;CN=W3C Calendar;PARTSTAT=ACCEPTED;ROLE=NON-PARTICIPANT:mailto:nor
 eply@w3.org
ATTENDEE;CUTYPE=GROUP;ROLE=OPT-PARTICIPANT;RSVP=FALSE;CN=JSON for Linked Da
 ta Community Group:mailto:public-json-ld@w3.org
ATTENDEE;CUTYPE=GROUP;ROLE=OPT-PARTICIPANT;RSVP=FALSE;CN=JSON-LD Working Gr
 oup:mailto:public-json-ld-wg@w3.org
LOCATION:#json-ld on irc.w3.org
RECURRENCE-ID;TZID=America/New_York:20230315T120000
END:VEVENT
END:VCALENDAR
