BEGIN:VCALENDAR
VERSION:2.0
PRODID:-//Sabre//Sabre VObject 4.5.8//EN
CALSCALE:GREGORIAN
LAST-MODIFIED:20231010T101732Z
BEGIN:VTIMEZONE
TZID:Europe/Madrid
BEGIN:STANDARD
DTSTART:20221030T010000
TZOFFSETFROM:+0200
TZOFFSETTO:+0100
TZNAME:CET
END:STANDARD
BEGIN:STANDARD
DTSTART:20231029T010000
TZOFFSETFROM:+0200
TZOFFSETTO:+0100
TZNAME:CET
END:STANDARD
BEGIN:DAYLIGHT
DTSTART:20230326T010000
TZOFFSETFROM:+0100
TZOFFSETTO:+0200
TZNAME:CEST
END:DAYLIGHT
END:VTIMEZONE
BEGIN:VEVENT
UID:4ade6562-701f-431a-a149-efec4e97cdc5
DTSTAMP:20231010T101732Z
SUMMARY:Verifiable Credentials and Decentralized Identifiers in action
DTSTART;TZID=Europe/Madrid:20230913T093000
DTEND;TZID=Europe/Madrid:20230913T103000
DESCRIPTION:https://www.w3.org/events/meetings/4ade6562-701f-431a-a149-efec
 4e97cdc5/\n\n[Verifiable Credentials](https://www.w3.org/TR/vc-data-model/
 ) and [Decentralized Identifiers](https://www.w3.org/TR/did-core/) have ga
 ined significant momentum since their publication as W3C recommendations. 
 The goal of this breakout session is to provide a quick introduction to th
 ese technologies\, and showcase a number of their deployments.\n\n\n\n_Pos
 t-TPAC note: No minutes were taken at this session._\n\nAgenda\n\n**Chairs
 :**\nPierre-Antoine Champin\, Brent Zundel\n\n**Description:**\n[Verifiabl
 e Credentials](https://www.w3.org/TR/vc-data-model/) and [Decentralized Id
 entifiers](https://www.w3.org/TR/did-core/) have gained significant moment
 um since their publication as W3C recommendations. The goal of this breako
 ut session is to provide a quick introduction to these technologies\, and 
 showcase a number of their deployments.\n\n\n\n_Post-TPAC note: No minutes
  were taken at this session._\n\n**Goal(s):**\nDemonstrate and discuss dep
 loyments of VCs and DIDs\n\n\n**Materials:**\n- [Session proposal on GitHu
 b](https://github.com/w3c/tpac2023-breakouts/issues/28)\n\n**Track(s):**\n
 - trust
STATUS:CONFIRMED
CREATED:20230905T053751Z
LAST-MODIFIED:20231010T101732Z
SEQUENCE:1
ORGANIZER;CN=W3C Calendar;PARTSTAT=ACCEPTED;ROLE=NON-PARTICIPANT:mailto:nor
 eply@w3.org
LOCATION:Santa Cruz - Level -1
CATEGORIES:TPAC 2023,Breakout Sessions
END:VEVENT
END:VCALENDAR
