BEGIN:VCALENDAR
VERSION:2.0
PRODID:-//Sabre//Sabre VObject 4.5.8//EN
CALSCALE:GREGORIAN
LAST-MODIFIED:20220510T113046Z
BEGIN:VTIMEZONE
TZID:Europe/Vienna
BEGIN:STANDARD
DTSTART:20211031T010000
TZOFFSETFROM:+0200
TZOFFSETTO:+0100
TZNAME:CET
END:STANDARD
BEGIN:STANDARD
DTSTART:20221030T010000
TZOFFSETFROM:+0200
TZOFFSETTO:+0100
TZNAME:CET
END:STANDARD
BEGIN:DAYLIGHT
DTSTART:20220327T010000
TZOFFSETFROM:+0100
TZOFFSETTO:+0200
TZNAME:CEST
END:DAYLIGHT
END:VTIMEZONE
BEGIN:VEVENT
UID:4a81c12e-90dc-4793-83ba-d7f6ff6a4f57
DTSTAMP:20220510T113046Z
SUMMARY:ConsentCG Meeting 10 MAY 2022
DTSTART;TZID=Europe/Vienna:20220510T170000
DTEND;TZID=Europe/Vienna:20220510T190000
DESCRIPTION:https://www.w3.org/events/meetings/4a81c12e-90dc-4793-83ba-d7f6
 ff6a4f57/\n\n– Update about the state of the documents\n– Discussion o
 f the use-cases\n– Planning of the use-cases\n– Community-building and
  outreaching/impact plans
STATUS:CONFIRMED
CREATED:20220510T112915Z
LAST-MODIFIED:20220510T113046Z
SEQUENCE:0
ORGANIZER;CN=W3C Calendar;PARTSTAT=ACCEPTED;ROLE=NON-PARTICIPANT:mailto:nor
 eply@w3.org
ATTENDEE;CUTYPE=GROUP;ROLE=OPT-PARTICIPANT;RSVP=FALSE;CN=Consent Community 
 Group:mailto:public-consent@w3.org
LOCATION:https://wu-ac-at.zoom.us/j/94768410705?pwd=NzlTbmFhU2dWeVptaWp6cnQ
 reTlSQT09
END:VEVENT
END:VCALENDAR
