BEGIN:VCALENDAR
VERSION:2.0
PRODID:-//Sabre//Sabre VObject 4.5.8//EN
CALSCALE:GREGORIAN
LAST-MODIFIED:20240923T232315Z
BEGIN:VTIMEZONE
TZID:America/Los_Angeles
X-MICROSOFT-CDO-TZID:13
BEGIN:STANDARD
DTSTART:20231105T090000
TZOFFSETFROM:-0700
TZOFFSETTO:-0800
TZNAME:PST
END:STANDARD
BEGIN:STANDARD
DTSTART:20241103T090000
TZOFFSETFROM:-0700
TZOFFSETTO:-0800
TZNAME:PST
END:STANDARD
BEGIN:DAYLIGHT
DTSTART:20240310T100000
TZOFFSETFROM:-0800
TZOFFSETTO:-0700
TZNAME:PDT
END:DAYLIGHT
END:VTIMEZONE
BEGIN:VEVENT
UID:47b69f98-794f-4aa4-9aa5-b8a9f0c1473e
DTSTAMP:20240923T232315Z
SUMMARY:Web Payments WG: Digital Credentials and Payments
DTSTART;TZID=America/Los_Angeles:20240923T163000
DTEND;TZID=America/Los_Angeles:20240923T180000
DESCRIPTION:https://www.w3.org/events/meetings/47b69f98-794f-4aa4-9aa5-b8a9
 f0c1473e/\n\n\n\nAgenda: https://github.com/w3c/webpayments/wiki/Agenda-TP
 AC2024
STATUS:CONFIRMED
CREATED:20240909T164000Z
LAST-MODIFIED:20240923T232315Z
SEQUENCE:3
ORGANIZER;CN=W3C Calendar;PARTSTAT=ACCEPTED;ROLE=NON-PARTICIPANT:mailto:nor
 eply@w3.org
ATTENDEE;CUTYPE=GROUP;ROLE=OPT-PARTICIPANT;RSVP=FALSE;CN=Web Payments Worki
 ng Group:mailto:public-payments-wg@w3.org
LOCATION:4 Concourse Level - Huntington
CATEGORIES:TPAC 2024,Group Meetings
END:VEVENT
END:VCALENDAR
