BEGIN:VCALENDAR
VERSION:2.0
PRODID:-//Sabre//Sabre VObject 4.5.8//EN
CALSCALE:GREGORIAN
LAST-MODIFIED:20251219T162441Z
BEGIN:VTIMEZONE
TZID:Etc/UTC
BEGIN:STANDARD
DTSTART:20250107T140000
TZOFFSETFROM:+0000
TZOFFSETTO:+0000
TZNAME:UTC
END:STANDARD
END:VTIMEZONE
BEGIN:VEVENT
UID:4731639f-35e3-49e7-8bd4-209635520901
DTSTAMP:20251219T162441Z
SUMMARY:ATAG CG Meeting
DTSTART;TZID=Etc/UTC:20260102T140000
DTEND;TZID=Etc/UTC:20260102T150000
DESCRIPTION:https://www.w3.org/events/meetings/4731639f-35e3-49e7-8bd4-2096
 35520901/20260102T140000/\n\n**Cancelled due to the holidays\, we'll resum
 e January 16** \nThe Authoring Tool Accessibility Guidelines (ATAG CG) wil
 l explore updating ATAG and addressing the role of AI in accessible author
 ing for web content. The ATAG CG will incubate updates to ATAG relating to
  the creation of accessible web content and authoring tool accessibility\,
  with a focus on emerging technologies like AI. This ATAG CG will explore 
 the challenges relating to current AI authoring tools and develop requirem
 ents and guidance for building AI authoring tools that are accessible and 
 produce accessible content.
STATUS:CANCELLED
CREATED:20251219T162440Z
LAST-MODIFIED:20251219T162441Z
SEQUENCE:3
ORGANIZER;CN=W3C Calendar;PARTSTAT=ACCEPTED;ROLE=NON-PARTICIPANT:mailto:nor
 eply@w3.org
ATTENDEE;CUTYPE=GROUP;ROLE=OPT-PARTICIPANT;RSVP=FALSE;CN=Authoring Tool Acc
 essibility Guidelines Community Group:mailto:public-atag@w3.org
RECURRENCE-ID;TZID=Etc/UTC:20260102T140000
END:VEVENT
END:VCALENDAR
