BEGIN:VCALENDAR
VERSION:2.0
PRODID:-//Sabre//Sabre VObject 4.5.8//EN
CALSCALE:GREGORIAN
LAST-MODIFIED:20251103T174445Z
BEGIN:VTIMEZONE
TZID:Asia/Tokyo
X-MICROSOFT-CDO-TZID:20
BEGIN:STANDARD
DTSTART:20241115T020000
TZOFFSETFROM:+0900
TZOFFSETTO:+0900
TZNAME:JST
END:STANDARD
END:VTIMEZONE
BEGIN:VEVENT
UID:46fa22d3-d716-4e61-b1bd-53b4212f2f06
DTSTAMP:20251103T174445Z
SUMMARY:DID Methods WG Charter Discussion
DTSTART;TZID=Asia/Tokyo:20251110T110000
DTEND;TZID=Asia/Tokyo:20251110T123000
DESCRIPTION:https://www.w3.org/events/meetings/46fa22d3-d716-4e61-b1bd-53b4
 212f2f06/\n\nDiscuss DID Methods WG Charter scope and concerns.
STATUS:CONFIRMED
CREATED:20250716T142319Z
LAST-MODIFIED:20251103T174445Z
SEQUENCE:9
ORGANIZER;CN=W3C Calendar;PARTSTAT=ACCEPTED;ROLE=NON-PARTICIPANT:mailto:nor
 eply@w3.org
LOCATION:Floor 4 - 406
CATEGORIES:TPAC 2025,Group Meetings
END:VEVENT
END:VCALENDAR
