BEGIN:VCALENDAR
VERSION:2.0
PRODID:-//Sabre//Sabre VObject 4.5.8//EN
CALSCALE:GREGORIAN
LAST-MODIFIED:20241002T170558Z
BEGIN:VTIMEZONE
TZID:America/Los_Angeles
X-MICROSOFT-CDO-TZID:13
BEGIN:STANDARD
DTSTART:20231105T090000
TZOFFSETFROM:-0700
TZOFFSETTO:-0800
TZNAME:PST
END:STANDARD
BEGIN:STANDARD
DTSTART:20241103T090000
TZOFFSETFROM:-0700
TZOFFSETTO:-0800
TZNAME:PST
END:STANDARD
BEGIN:DAYLIGHT
DTSTART:20240310T100000
TZOFFSETFROM:-0800
TZOFFSETTO:-0700
TZNAME:PDT
END:DAYLIGHT
END:VTIMEZONE
BEGIN:VEVENT
UID:46d3f649-2027-40eb-8aa1-695aa3513190
DTSTAMP:20241002T170558Z
SUMMARY:JSON-LD Working Group\, RDF-star Working Group\, JSON for Linked Da
 ta Community Group Joint Meeting
DTSTART;TZID=America/Los_Angeles:20240924T110000
DTEND;TZID=America/Los_Angeles:20240924T123000
DESCRIPTION:https://www.w3.org/events/meetings/46d3f649-2027-40eb-8aa1-695a
 a3513190/\n\nMeeting canceled at the last minute due to a power outage in 
 the conference facility.
STATUS:CANCELLED
CREATED:20240905T145921Z
LAST-MODIFIED:20241002T170558Z
SEQUENCE:5
ORGANIZER;CN=W3C Calendar;PARTSTAT=ACCEPTED;ROLE=NON-PARTICIPANT:mailto:nor
 eply@w3.org
ATTENDEE;CUTYPE=GROUP;ROLE=OPT-PARTICIPANT;RSVP=FALSE;CN=JSON for Linked Da
 ta Community Group:mailto:public-json-ld@w3.org
ATTENDEE;CUTYPE=GROUP;ROLE=OPT-PARTICIPANT;RSVP=FALSE;CN=JSON-LD Working Gr
 oup:mailto:public-json-ld-wg@w3.org
ATTENDEE;CUTYPE=GROUP;ROLE=OPT-PARTICIPANT;RSVP=FALSE;CN=RDF & SPARQL Worki
 ng Group:mailto:public-rdf-star-wg@w3.org
LOCATION:4 Concourse Level - La Jolla
CATEGORIES:TPAC 2024,Group Meetings
END:VEVENT
END:VCALENDAR
