BEGIN:VCALENDAR
VERSION:2.0
PRODID:-//Sabre//Sabre VObject 4.5.8//EN
CALSCALE:GREGORIAN
LAST-MODIFIED:20251103T174841Z
BEGIN:VTIMEZONE
TZID:Asia/Tokyo
X-MICROSOFT-CDO-TZID:20
BEGIN:STANDARD
DTSTART:20241119T020000
TZOFFSETFROM:+0900
TZOFFSETTO:+0900
TZNAME:JST
END:STANDARD
END:VTIMEZONE
BEGIN:VEVENT
UID:45496cd6-f854-4355-b88a-3c5928977c0b
DTSTAMP:20251103T174841Z
SUMMARY:Accessibility Guidelines WG\, Accessible Platform Architectures WG 
 joint meeting
DTSTART;TZID=Asia/Tokyo:20251114T110000
DTEND;TZID=Asia/Tokyo:20251114T123000
DESCRIPTION:https://www.w3.org/events/meetings/45496cd6-f854-4355-b88a-3c59
 28977c0b/\n\n
STATUS:CONFIRMED
CREATED:20250716T142728Z
LAST-MODIFIED:20251103T174841Z
SEQUENCE:9
ORGANIZER;CN=W3C Calendar;PARTSTAT=ACCEPTED;ROLE=NON-PARTICIPANT:mailto:nor
 eply@w3.org
ATTENDEE;CUTYPE=GROUP;ROLE=OPT-PARTICIPANT;RSVP=FALSE;CN=Accessibility Guid
 elines Working Group:mailto:public-ag-admin@w3.org
ATTENDEE;CUTYPE=GROUP;ROLE=OPT-PARTICIPANT;RSVP=FALSE;CN=Accessible Platfor
 m Architectures Working Group:mailto:public-apa@w3.org
LOCATION:Floor 4 - 403
CATEGORIES:TPAC 2025,Group Meetings
END:VEVENT
END:VCALENDAR
