BEGIN:VCALENDAR
VERSION:2.0
PRODID:-//Sabre//Sabre VObject 4.5.8//EN
CALSCALE:GREGORIAN
LAST-MODIFIED:20251103T162449Z
BEGIN:VTIMEZONE
TZID:Asia/Tokyo
X-MICROSOFT-CDO-TZID:20
BEGIN:STANDARD
DTSTART:20241115T000000
TZOFFSETFROM:+0900
TZOFFSETTO:+0900
TZNAME:JST
END:STANDARD
END:VTIMEZONE
BEGIN:VEVENT
UID:43b38ab3-f525-40d8-b1b4-ea8675a74d91
DTSTAMP:20251103T162449Z
SUMMARY:Web of Things Plugfest
DTSTART;TZID=Asia/Tokyo:20251110T090000
DTEND;TZID=Asia/Tokyo:20251110T164500
DESCRIPTION:https://www.w3.org/events/meetings/43b38ab3-f525-40d8-b1b4-ea86
 75a74d91/\n\n
STATUS:CONFIRMED
CREATED:20250812T142134Z
LAST-MODIFIED:20251103T162449Z
SEQUENCE:3
ORGANIZER;CN=W3C Calendar;PARTSTAT=ACCEPTED;ROLE=NON-PARTICIPANT:mailto:nor
 eply@w3.org
LOCATION:Floor 3 - 307
CATEGORIES:TPAC 2025,Group Meetings
END:VEVENT
END:VCALENDAR
