BEGIN:VCALENDAR
VERSION:2.0
PRODID:-//Sabre//Sabre VObject 4.5.8//EN
CALSCALE:GREGORIAN
LAST-MODIFIED:20230208T150656Z
BEGIN:VTIMEZONE
TZID:Europe/Vienna
BEGIN:DAYLIGHT
DTSTART:20220327T010000
TZOFFSETFROM:+0100
TZOFFSETTO:+0200
TZNAME:CEST
END:DAYLIGHT
BEGIN:DAYLIGHT
DTSTART:20230326T010000
TZOFFSETFROM:+0100
TZOFFSETTO:+0200
TZNAME:CEST
END:DAYLIGHT
BEGIN:STANDARD
DTSTART:20221030T010000
TZOFFSETFROM:+0200
TZOFFSETTO:+0100
TZNAME:CET
END:STANDARD
END:VTIMEZONE
BEGIN:VEVENT
UID:437636b9-6645-42cf-8040-54d32aa09abd
DTSTAMP:20230208T150656Z
SUMMARY:ConsentCG Meeting 15 January 2023
DTSTART;TZID=Europe/Vienna:20230215T170000
DTEND;TZID=Europe/Vienna:20230215T190000
DESCRIPTION:https://www.w3.org/events/meetings/437636b9-6645-42cf-8040-54d3
 2aa09abd/\n\n- Continuing our discussion on consent receipts \n- ...
STATUS:CONFIRMED
CREATED:20230208T150655Z
LAST-MODIFIED:20230208T150656Z
SEQUENCE:0
ORGANIZER;CN=W3C Calendar;PARTSTAT=ACCEPTED;ROLE=NON-PARTICIPANT:mailto:nor
 eply@w3.org
ATTENDEE;CUTYPE=GROUP;ROLE=OPT-PARTICIPANT;RSVP=FALSE;CN=Consent Community 
 Group:mailto:public-consent@w3.org
LOCATION:Online
END:VEVENT
END:VCALENDAR
