BEGIN:VCALENDAR
VERSION:2.0
PRODID:-//Sabre//Sabre VObject 4.5.8//EN
CALSCALE:GREGORIAN
LAST-MODIFIED:20260219T062005Z
BEGIN:VTIMEZONE
TZID:Asia/Tokyo
X-MICROSOFT-CDO-TZID:20
BEGIN:STANDARD
DTSTART:20241117T054500
TZOFFSETFROM:+0900
TZOFFSETTO:+0900
TZNAME:JST
END:STANDARD
END:VTIMEZONE
BEGIN:VEVENT
UID:4313e40c-2ac1-4bfd-869d-16ac4e003e01
DTSTAMP:20260219T062005Z
SUMMARY:Effective and trustworthy conformance evaluation for WCAG and beyon
 d
DTSTART;TZID=Asia/Tokyo:20251112T144500
DTEND;TZID=Asia/Tokyo:20251112T154500
DESCRIPTION:https://www.w3.org/events/meetings/4313e40c-2ac1-4bfd-869d-16ac
 4e003e01/\n\n[WCAG-EM](https://www.w3.org/TR/WCAG-EM/) is a process for de
 ciding whether a website conform to [WCAG](https://www.w3.org/TR/WCAG22/)\
 , the Web Content Accessibility Guidelines\, even if that website is very 
 large. It is currently being updated (to [WCAG-EM 2](https://w3c.github.io
 /wai-wcag-em/). In this breakout\, I'd like to:\n\n- give an overview of w
 hat we're updating and solicit feedback \n- get input on making evaluation
  more effective\n- get input on making evaluation more trustworthy\n\n**Go
 al(s):**\nShare what's happening\, solicit feedback\n\nAgenda\n\n- give an
  overview of what we're updating and solicit feedback \n- how can we make 
 evaluation more effective\n- how can we make evaluation more trustworthy\n
 \n**Materials:**\n- [Slides](https://hidde.github.io/b6-logius/20251111-tp
 ac-wcag-em/)\n- [Slack: agwg-wcag-em](https://w3ccommunity.slack.com/archi
 ves/C08LDGQ16CD)\n- [Session proposal on GitHub](https://github.com/w3c/tp
 ac2025-breakouts/issues/28)
STATUS:CONFIRMED
CREATED:20251028T073712Z
LAST-MODIFIED:20260219T062005Z
SEQUENCE:4
ORGANIZER;CN=W3C Calendar;PARTSTAT=ACCEPTED;ROLE=NON-PARTICIPANT:mailto:nor
 eply@w3.org
LOCATION:Floor 5 - 505
CATEGORIES:TPAC 2025,Breakout Sessions
END:VEVENT
END:VCALENDAR
