BEGIN:VCALENDAR
VERSION:2.0
PRODID:-//Sabre//Sabre VObject 4.5.8//EN
CALSCALE:GREGORIAN
LAST-MODIFIED:20230206T144425Z
BEGIN:VTIMEZONE
TZID:Etc/UTC
BEGIN:STANDARD
DTSTART:20220212T150000
TZOFFSETFROM:+0000
TZOFFSETTO:+0000
TZNAME:UTC
END:STANDARD
END:VTIMEZONE
BEGIN:VEVENT
UID:40a3208e-058c-4f3f-92a6-f8857b0c4eed
DTSTAMP:20230206T144425Z
SUMMARY:W3C MEIG monthly meeting
DTSTART;TZID=Etc/UTC:20230207T150000
DTEND;TZID=Etc/UTC:20230207T160000
DESCRIPTION:https://www.w3.org/events/meetings/40a3208e-058c-4f3f-92a6-f885
 7b0c4eed/\n\n\n\nAgenda\n\n- Welcome and AOB\n- Media WG Update\n  - New d
 eliverable: Audio Focus API\n  - ITU-T SG16 Liaison Statement on WebCodecs
 \n  - Rechartering\n- Rechartering MEIG\n  - Review of recent activities\n
   - Focus areas for 2023-2025?\n- TV application development update\n\nSli
 des: https://docs.google.com/presentation/d/1UvmmcXXqTW74RjhXCm2EpWQ6Y47X-
 NpJDBf-APao_I8/edit
STATUS:CONFIRMED
CREATED:20230202T125012Z
LAST-MODIFIED:20230206T144425Z
SEQUENCE:0
ORGANIZER;CN=W3C Calendar;PARTSTAT=ACCEPTED;ROLE=NON-PARTICIPANT:mailto:nor
 eply@w3.org
ATTENDEE;CUTYPE=GROUP;ROLE=OPT-PARTICIPANT;RSVP=FALSE;CN=Media and Entertai
 nment Interest Group:mailto:public-web-and-tv@w3.org
END:VEVENT
END:VCALENDAR
