BEGIN:VCALENDAR
VERSION:2.0
PRODID:-//Sabre//Sabre VObject 4.5.8//EN
CALSCALE:GREGORIAN
LAST-MODIFIED:20220311T163724Z
BEGIN:VTIMEZONE
TZID:America/New_York
X-MICROSOFT-CDO-TZID:10
BEGIN:STANDARD
DTSTART:20211107T060000
TZOFFSETFROM:-0400
TZOFFSETTO:-0500
TZNAME:EST
END:STANDARD
BEGIN:DAYLIGHT
DTSTART:20220313T070000
TZOFFSETFROM:-0500
TZOFFSETTO:-0400
TZNAME:EDT
END:DAYLIGHT
END:VTIMEZONE
BEGIN:VEVENT
UID:40423b6f-4444-4341-a273-55ec0e7399e1
DTSTAMP:20220311T163724Z
SUMMARY:EPUB 3 Working Group Meeting
DTSTART;TZID=America/New_York:20220311T100000
DTEND;TZID=America/New_York:20220311T110000
DESCRIPTION:https://www.w3.org/events/meetings/40423b6f-4444-4341-a273-55ec
 0e7399e1/20220311T100000/\n\nThe EPUB 3 Working Group is developing the la
 test version of the EPUB 3 specification\, EPUB 3.3. This group meets week
 ly to discuss issues and developments relating to the specification and th
 e publishing industry. We meet at alternating times weekly.
STATUS:CONFIRMED
CREATED:20220311T163724Z
LAST-MODIFIED:20220311T163724Z
SEQUENCE:1
ORGANIZER;CN=W3C Calendar;PARTSTAT=ACCEPTED;ROLE=NON-PARTICIPANT:mailto:nor
 eply@w3.org
ATTENDEE;CUTYPE=GROUP;ROLE=OPT-PARTICIPANT;RSVP=FALSE;CN=EPUB 3 Working Gro
 up:mailto:public-epub-wg@w3.org
RECURRENCE-ID;TZID=America/New_York:20220311T100000
END:VEVENT
END:VCALENDAR
