BEGIN:VCALENDAR
VERSION:2.0
PRODID:-//Sabre//Sabre VObject 4.5.8//EN
CALSCALE:GREGORIAN
LAST-MODIFIED:20230427T165908Z
BEGIN:VTIMEZONE
TZID:America/Los_Angeles
X-MICROSOFT-CDO-TZID:13
BEGIN:STANDARD
DTSTART:20221106T090000
TZOFFSETFROM:-0700
TZOFFSETTO:-0800
TZNAME:PST
END:STANDARD
BEGIN:STANDARD
DTSTART:20231105T090000
TZOFFSETFROM:-0700
TZOFFSETTO:-0800
TZNAME:PST
END:STANDARD
BEGIN:DAYLIGHT
DTSTART:20230312T100000
TZOFFSETFROM:-0800
TZOFFSETTO:-0700
TZNAME:PDT
END:DAYLIGHT
END:VTIMEZONE
BEGIN:VEVENT
UID:402ca109-ea77-4ad0-b088-1ccd8a0f00c5
DTSTAMP:20230427T165908Z
SUMMARY:ARIA and Assistive Technologies Community Group Weekly Teleconferen
 ce
DTSTART;TZID=America/Los_Angeles:20230420T120000
DTEND;TZID=America/Los_Angeles:20230420T130000
DESCRIPTION:https://www.w3.org/events/meetings/402ca109-ea77-4ad0-b088-1ccd
 8a0f00c5/20230420T120000/\n\n\n\nAgenda\n\n1. AT Support Table Launch Foll
 ow Up\n2. Firefox testing on Windows\n3. Chrome testing on macOS\n4. Poten
 tial test scope adjustments\n    1. [Feedback: Potentially out of scope te
 st - "Navigate out of the start of a radio group in interaction mode" (Rad
 io Group Example Using aria-activedescendant\, Test 18) · Issue #934 · w
 3c/aria-at](https://github.com/w3c/aria-at/issues/934)\n5. Process (Workin
 g Mode) Questions [Issue 914](https://github.com/w3c/aria-at/issues/914)\n
     1. Should we scope test plans to a group of AT with identical testing 
 requirements?\n    2. Can a test plan return to an earlier phase of the wo
 rking mode?\n    3. Are there scenarios where we need to simultaneously ma
 nage multiple versions of a test plan?
STATUS:CONFIRMED
CREATED:20230420T185837Z
LAST-MODIFIED:20230427T165908Z
SEQUENCE:2
ORGANIZER;CN=W3C Calendar;PARTSTAT=ACCEPTED;ROLE=NON-PARTICIPANT:mailto:nor
 eply@w3.org
ATTENDEE;CUTYPE=GROUP;ROLE=OPT-PARTICIPANT;RSVP=FALSE;CN=ARIA and Assistive
  Technologies Community Group:mailto:public-aria-at@w3.org
RECURRENCE-ID;TZID=America/Los_Angeles:20230420T120000
END:VEVENT
END:VCALENDAR
