BEGIN:VCALENDAR
VERSION:2.0
PRODID:-//Sabre//Sabre VObject 4.5.8//EN
CALSCALE:GREGORIAN
LAST-MODIFIED:20230406T184113Z
BEGIN:VTIMEZONE
TZID:America/Los_Angeles
X-MICROSOFT-CDO-TZID:13
BEGIN:STANDARD
DTSTART:20221106T090000
TZOFFSETFROM:-0700
TZOFFSETTO:-0800
TZNAME:PST
END:STANDARD
BEGIN:STANDARD
DTSTART:20231105T090000
TZOFFSETFROM:-0700
TZOFFSETTO:-0800
TZNAME:PST
END:STANDARD
BEGIN:DAYLIGHT
DTSTART:20230312T100000
TZOFFSETFROM:-0800
TZOFFSETTO:-0700
TZNAME:PDT
END:DAYLIGHT
END:VTIMEZONE
BEGIN:VEVENT
UID:402ca109-ea77-4ad0-b088-1ccd8a0f00c5
DTSTAMP:20230406T184113Z
SUMMARY:ARIA and Assistive Technologies Community Group Weekly Teleconferen
 ce
DTSTART;TZID=America/Los_Angeles:20230406T120000
DTEND;TZID=America/Los_Angeles:20230406T130000
DESCRIPTION:https://www.w3.org/events/meetings/402ca109-ea77-4ad0-b088-1ccd
 8a0f00c5/20230406T120000/\n\n\n\nAgenda\n\n1. AT Support Table Launch Upda
 te\n    1. [Preview Alert Example](https://aria-practices.netlify.app/aria
 /apg/patterns/alert/examples/alert/#assistivetechnologysupport)\n    1. [P
 review Command and Toggle button Examples](https://aria-practices.netlify.
 app/aria/apg/patterns/button/examples/button/#assistivetechnologysupport))
 \n    1. [Preview Link Example](https://aria-practices.netlify.app/aria/ap
 g/patterns/link/examples/link/#assistivetechnologysupport)\n    1. [Previe
 w Radio Group Example Using aria-activedescendant](https://aria-practices.
 netlify.app/aria/apg/patterns/radio/examples/radio-activedescendant/#assis
 tivetechnologysupport)\n2. Current testing check-in\n3. Radio plan update 
 for support table launch\n    1. JAWS is showing 99% support but it should
  show 100%\n    1. [Feedback: "Navigate out of the start of a radio group 
 in reading mode" (Radio Group Example Using aria-activedescendant\, Test 1
 7) · Issue #922 · w3c/aria-at](https://github.com/w3c/aria-at/issues/922
 )\n4. Process (Working Mode) Questions [Issue 914](https://github.com/w3c/
 aria-at/issues/914)\n    1. Should we scope test plans to a group of AT wi
 th identical testing requirements?\n    2. Can a test plan return to an ea
 rlier phase of the working mode?\n    3. Are there scenarios where we need
  to simultaneously manage multiple versions of a test plan?
STATUS:CONFIRMED
CREATED:20230406T184112Z
LAST-MODIFIED:20230406T184113Z
SEQUENCE:2
ORGANIZER;CN=W3C Calendar;PARTSTAT=ACCEPTED;ROLE=NON-PARTICIPANT:mailto:nor
 eply@w3.org
ATTENDEE;CUTYPE=GROUP;ROLE=OPT-PARTICIPANT;RSVP=FALSE;CN=ARIA and Assistive
  Technologies Community Group:mailto:public-aria-at@w3.org
RECURRENCE-ID;TZID=America/Los_Angeles:20230406T120000
END:VEVENT
END:VCALENDAR
