BEGIN:VCALENDAR
VERSION:2.0
PRODID:-//Sabre//Sabre VObject 4.5.8//EN
CALSCALE:GREGORIAN
LAST-MODIFIED:20230412T140048Z
BEGIN:VTIMEZONE
TZID:America/New_York
X-MICROSOFT-CDO-TZID:10
BEGIN:STANDARD
DTSTART:20221106T060000
TZOFFSETFROM:-0400
TZOFFSETTO:-0500
TZNAME:EST
END:STANDARD
BEGIN:STANDARD
DTSTART:20231105T060000
TZOFFSETFROM:-0400
TZOFFSETTO:-0500
TZNAME:EST
END:STANDARD
BEGIN:DAYLIGHT
DTSTART:20230312T070000
TZOFFSETFROM:-0500
TZOFFSETTO:-0400
TZNAME:EDT
END:DAYLIGHT
END:VTIMEZONE
BEGIN:VEVENT
UID:3f89692a-2708-45b6-bb12-b8f3e26ed35d
DTSTAMP:20230412T140048Z
SUMMARY:CANCELLED - WoT TD/Binding Templates
DTSTART;TZID=America/New_York:20230419T100000
DTEND;TZID=America/New_York:20230419T120000
DESCRIPTION:https://www.w3.org/events/meetings/3f89692a-2708-45b6-bb12-b8f3
 e26ed35d/20230419T100000/\n\nMeeting is cancelled but only marking tentati
 ve to be able to revert it if needed\n\n\nThe [WoT Thing Description task 
 force](https://www.w3.org/WoT/IG/wiki/WG_WoT_Thing_Description_WebConf) is
  responsible for defining the information model for WoT Thing metadata\, i
 ts interpretation\, and its common representation. In addition\, the task 
 force covers WoT Binding Templates topics to define the mapping from the a
 bstract interaction model used in the Thing Description metadata to concre
 te IoT protocols and payload encodings.\n\n[IRC: #wot-td](https://irc.w3.o
 rg/?channels=wot-td) / [WebEx](https://lists.w3.org/Archives/Member/member
 -wot-wg/2020Jul/0027.html)
STATUS:TENTATIVE
CREATED:20230412T140047Z
LAST-MODIFIED:20230412T140048Z
SEQUENCE:4
ORGANIZER;CN=W3C Calendar;PARTSTAT=ACCEPTED;ROLE=NON-PARTICIPANT:mailto:nor
 eply@w3.org
ATTENDEE;CUTYPE=GROUP;ROLE=OPT-PARTICIPANT;RSVP=FALSE;CN=Web of Things Inte
 rest Group:mailto:public-wot-ig@w3.org
ATTENDEE;CUTYPE=GROUP;ROLE=OPT-PARTICIPANT;RSVP=FALSE;CN=Web of Things Work
 ing Group:mailto:public-wot-wg@w3.org
LOCATION:WebEx
RECURRENCE-ID;TZID=America/New_York:20230419T100000
END:VEVENT
END:VCALENDAR
