BEGIN:VCALENDAR
VERSION:2.0
PRODID:-//Sabre//Sabre VObject 4.5.8//EN
CALSCALE:GREGORIAN
LAST-MODIFIED:20230213T130240Z
BEGIN:VTIMEZONE
TZID:America/New_York
X-MICROSOFT-CDO-TZID:10
BEGIN:DAYLIGHT
DTSTART:20220313T070000
TZOFFSETFROM:-0500
TZOFFSETTO:-0400
TZNAME:EDT
END:DAYLIGHT
BEGIN:DAYLIGHT
DTSTART:20230312T070000
TZOFFSETFROM:-0500
TZOFFSETTO:-0400
TZNAME:EDT
END:DAYLIGHT
BEGIN:STANDARD
DTSTART:20221106T060000
TZOFFSETFROM:-0400
TZOFFSETTO:-0500
TZNAME:EST
END:STANDARD
END:VTIMEZONE
BEGIN:VEVENT
UID:3f0cea28-a4e6-44e8-8795-23181342a2dc
DTSTAMP:20230213T130240Z
SUMMARY:WoT Charter - 2nd Session - Day 3
DTSTART;TZID=America/New_York:20230216T060000
DTEND;TZID=America/New_York:20230216T080000
DESCRIPTION:https://www.w3.org/events/meetings/3f0cea28-a4e6-44e8-8795-2318
 1342a2dc/\n\n03:00-05:00 PST\n06:00-08:00 EST\n07:00-09:00 AST\n11:00-13:0
 0 UTC\n12:00-14:00 CET\n20:00-22:00 JST\n\nSee also: https://www.timeandda
 te.com/worldclock/converter.html?iso=20230216T110000&p1=137&p2=43&p3=tz_at
 &p4=1440&p5=136&p6=195&p7=101&p8=33&p9=236&p10=248
STATUS:CONFIRMED
CREATED:20230213T075041Z
LAST-MODIFIED:20230213T130240Z
SEQUENCE:2
ORGANIZER;CN=W3C Calendar;PARTSTAT=ACCEPTED;ROLE=NON-PARTICIPANT:mailto:nor
 eply@w3.org
ATTENDEE;CUTYPE=GROUP;ROLE=OPT-PARTICIPANT;RSVP=FALSE;CN=Web of Things Inte
 rest Group:mailto:public-wot-ig@w3.org
ATTENDEE;CUTYPE=GROUP;ROLE=OPT-PARTICIPANT;RSVP=FALSE;CN=Web of Things Work
 ing Group:mailto:public-wot-wg@w3.org
LOCATION:WebEx
END:VEVENT
END:VCALENDAR
