BEGIN:VCALENDAR
VERSION:2.0
PRODID:-//Sabre//Sabre VObject 4.5.8//EN
CALSCALE:GREGORIAN
LAST-MODIFIED:20260409T122851Z
BEGIN:VTIMEZONE
TZID:Etc/UTC
BEGIN:STANDARD
DTSTART:20250621T150000
TZOFFSETFROM:+0000
TZOFFSETTO:+0000
TZNAME:UTC
END:STANDARD
END:VTIMEZONE
BEGIN:VEVENT
UID:3ee6696e-f207-4928-8e35-16255d98fb85
DTSTAMP:20260409T122851Z
SUMMARY:WebRTC WG June 2026 call
DTSTART;TZID=Etc/UTC:20260616T150000
DTEND;TZID=Etc/UTC:20260616T170000
DESCRIPTION:https://www.w3.org/events/meetings/3ee6696e-f207-4928-8e35-1625
 5d98fb85/\n\n
STATUS:TENTATIVE
CREATED:20260409T122851Z
LAST-MODIFIED:20260409T122851Z
SEQUENCE:0
ORGANIZER;CN=W3C Calendar;PARTSTAT=ACCEPTED;ROLE=NON-PARTICIPANT:mailto:nor
 eply@w3.org
ATTENDEE;CUTYPE=GROUP;ROLE=OPT-PARTICIPANT;RSVP=FALSE;CN=Web Real-Time Comm
 unications Working Group:mailto:public-webrtc@w3.org
END:VEVENT
END:VCALENDAR
