BEGIN:VCALENDAR
VERSION:2.0
PRODID:-//Sabre//Sabre VObject 4.5.8//EN
CALSCALE:GREGORIAN
LAST-MODIFIED:20240315T153726Z
BEGIN:VTIMEZONE
TZID:Etc/UTC
BEGIN:STANDARD
DTSTART:20230228T100000
TZOFFSETFROM:+0000
TZOFFSETTO:+0000
TZNAME:UTC
END:STANDARD
END:VTIMEZONE
BEGIN:VEVENT
UID:3ea0d5b5-2678-4be5-9d52-f738481a569b
DTSTAMP:20240315T153726Z
SUMMARY:WebView CG Meeting
DTSTART;TZID=Etc/UTC:20240223T100000
DTEND;TZID=Etc/UTC:20240223T110000
DESCRIPTION:https://www.w3.org/events/meetings/3ea0d5b5-2678-4be5-9d52-f738
 481a569b/\n\nRecurring CG meeting on a monthly basis.\n\nAgenda\n\nThe two
  main topics we will be discussing with be:\n* The survey - please add to 
 the discussion [here](https://github.com/orgs/WebView-CG/discussions/3) if
  there are any questions you are interested in from the community\n* We wi
 ll be making the final call on the [charter proposal changes](https://gith
 ub.com/WebView-CG/charter/issues/12). If the group agrees to the charter p
 roposal\, There is a [new repository](https://github.com/WebView-CG/Compat
 ibility-Data-Project/issues) where we can track issues\n\nPlease review th
 e proposed changes to the charter and leave a vote on GitHub: https://gith
 ub.com/WebView-CG/charter/pull/13\n\nJoining Instructions: https://w3c.zoo
 m.us/j/88040907421?pwd=QUJiU29JdG55OS8xRWJPd0hFTVVXUT09\n\nChat\n\nW3C Com
 munity Slack #webview-cg
STATUS:CONFIRMED
CREATED:20240126T170035Z
LAST-MODIFIED:20240315T153726Z
SEQUENCE:1
ORGANIZER;CN=W3C Calendar;PARTSTAT=ACCEPTED;ROLE=NON-PARTICIPANT:mailto:nor
 eply@w3.org
ATTENDEE;CUTYPE=GROUP;ROLE=OPT-PARTICIPANT;RSVP=FALSE;CN=WebView Community 
 Group:mailto:public-webview@w3.org
END:VEVENT
END:VCALENDAR
