BEGIN:VCALENDAR
VERSION:2.0
PRODID:-//Sabre//Sabre VObject 4.5.8//EN
CALSCALE:GREGORIAN
LAST-MODIFIED:20260227T232844Z
BEGIN:VTIMEZONE
TZID:Asia/Tokyo
X-MICROSOFT-CDO-TZID:20
BEGIN:STANDARD
DTSTART:20241119T050000
TZOFFSETFROM:+0900
TZOFFSETTO:+0900
TZNAME:JST
END:STANDARD
END:VTIMEZONE
BEGIN:VEVENT
UID:3e938598-579b-4a67-8a5d-9f870871d763
DTSTAMP:20260227T232844Z
SUMMARY:Advisory Board
DTSTART;TZID=Asia/Tokyo:20251114T140000
DTEND;TZID=Asia/Tokyo:20251114T180000
DESCRIPTION:https://www.w3.org/events/meetings/3e938598-579b-4a67-8a5d-9f87
 0871d763/\n\nAB meeting 2-6pm Friday 14 November at TPAC 2025
STATUS:CONFIRMED
CREATED:20250818T145639Z
LAST-MODIFIED:20260227T232844Z
SEQUENCE:9
ORGANIZER;CN=W3C Calendar;PARTSTAT=ACCEPTED;ROLE=NON-PARTICIPANT:mailto:nor
 eply@w3.org
ATTENDEE;CUTYPE=GROUP;ROLE=OPT-PARTICIPANT;RSVP=FALSE;CN=Advisory Board:mai
 lto:w3c-ac-members@w3.org
LOCATION:Floor 4 - 403
CATEGORIES:TPAC 2025,Group Meetings
END:VEVENT
END:VCALENDAR
