BEGIN:VCALENDAR
VERSION:2.0
PRODID:-//Sabre//Sabre VObject 4.5.8//EN
CALSCALE:GREGORIAN
LAST-MODIFIED:20240924T210814Z
BEGIN:VTIMEZONE
TZID:America/Los_Angeles
X-MICROSOFT-CDO-TZID:13
BEGIN:STANDARD
DTSTART:20231105T090000
TZOFFSETFROM:-0700
TZOFFSETTO:-0800
TZNAME:PST
END:STANDARD
BEGIN:STANDARD
DTSTART:20241103T090000
TZOFFSETFROM:-0700
TZOFFSETTO:-0800
TZNAME:PST
END:STANDARD
BEGIN:DAYLIGHT
DTSTART:20240310T100000
TZOFFSETFROM:-0800
TZOFFSETTO:-0700
TZNAME:PDT
END:DAYLIGHT
END:VTIMEZONE
BEGIN:VEVENT
UID:3db77274-f760-4060-80e2-cc13b616c055
DTSTAMP:20240924T210814Z
SUMMARY:Browser Testing and Tools Working Group\, Web Applications Working 
 Group Joint Meeting
DTSTART;TZID=America/Los_Angeles:20240924T140000
DTEND;TZID=America/Los_Angeles:20240924T160000
DESCRIPTION:https://www.w3.org/events/meetings/3db77274-f760-4060-80e2-cc13
 b616c055/\n\n\n\nAgenda: https://github.com/w3c/webappswg/wiki/TPAC-2024
STATUS:CONFIRMED
CREATED:20240614T163440Z
LAST-MODIFIED:20240924T210814Z
SEQUENCE:6
ORGANIZER;CN=W3C Calendar;PARTSTAT=ACCEPTED;ROLE=NON-PARTICIPANT:mailto:nor
 eply@w3.org
ATTENDEE;CUTYPE=GROUP;ROLE=OPT-PARTICIPANT;RSVP=FALSE;CN=Browser Testing an
 d Tools Working Group:mailto:public-browser-tools-testing@w3.org
ATTENDEE;CUTYPE=GROUP;ROLE=OPT-PARTICIPANT;RSVP=FALSE;CN=Web Applications W
 orking Group:mailto:public-webapps@w3.org
LOCATION:-1 Lower Level - Catalina 1
CATEGORIES:TPAC 2024,Group Meetings
END:VEVENT
END:VCALENDAR
