BEGIN:VCALENDAR
VERSION:2.0
PRODID:-//Sabre//Sabre VObject 4.5.8//EN
CALSCALE:GREGORIAN
LAST-MODIFIED:20220520T161437Z
BEGIN:VTIMEZONE
TZID:America/New_York
X-MICROSOFT-CDO-TZID:10
BEGIN:STANDARD
DTSTART:20211107T060000
TZOFFSETFROM:-0400
TZOFFSETTO:-0500
TZNAME:EST
END:STANDARD
BEGIN:STANDARD
DTSTART:20221106T060000
TZOFFSETFROM:-0400
TZOFFSETTO:-0500
TZNAME:EST
END:STANDARD
BEGIN:DAYLIGHT
DTSTART:20220313T070000
TZOFFSETFROM:-0500
TZOFFSETTO:-0400
TZNAME:EDT
END:DAYLIGHT
END:VTIMEZONE
BEGIN:VEVENT
UID:3db59034-b803-4a55-846a-3c990bc84173
DTSTAMP:20220520T161437Z
SUMMARY:RDF-star call
DTSTART;TZID=America/New_York:20220520T110000
DTEND;TZID=America/New_York:20220520T120000
DESCRIPTION:https://www.w3.org/events/meetings/3db59034-b803-4a55-846a-3c99
 0bc84173/\n\nMeeting of the [RDF-star "task force"](https://w3c.github.io/
 rdf-star/).\n\nIRC:     #rdf-star on public-irc.w3.org port 6697 (irc://pu
 blic-irc.w3.org:6697/%23rdf-star or https://irc.w3.org/)\n\nAgenda: https:
 //lists.w3.org/Archives/Public/public-rdf-star/2022May/0001.html
STATUS:CONFIRMED
CREATED:20220506T163739Z
LAST-MODIFIED:20220520T161437Z
SEQUENCE:2
ORGANIZER;CN=W3C Calendar;PARTSTAT=ACCEPTED;ROLE=NON-PARTICIPANT:mailto:nor
 eply@w3.org
ATTENDEE;CUTYPE=GROUP;ROLE=OPT-PARTICIPANT;RSVP=FALSE;CN=RDF-DEV Community 
 Group:mailto:public-rdf-dev@w3.org
END:VEVENT
END:VCALENDAR
