BEGIN:VCALENDAR
VERSION:2.0
PRODID:-//Sabre//Sabre VObject 4.5.8//EN
CALSCALE:GREGORIAN
LAST-MODIFIED:20230217T050415Z
BEGIN:VTIMEZONE
TZID:Etc/UTC
BEGIN:STANDARD
DTSTART:20220221T120000
TZOFFSETFROM:+0000
TZOFFSETTO:+0000
TZNAME:UTC
END:STANDARD
END:VTIMEZONE
BEGIN:VEVENT
UID:3d109a74-7706-425d-96fc-b9755c129d66
DTSTAMP:20230217T050415Z
SUMMARY:MiniApps CG Teleconference
DTSTART;TZID=Etc/UTC:20230216T120000
DTEND;TZID=Etc/UTC:20230216T130000
DESCRIPTION:https://www.w3.org/events/meetings/3d109a74-7706-425d-96fc-b975
 5c129d66/\n\n
STATUS:CONFIRMED
CREATED:20230213T015535Z
LAST-MODIFIED:20230217T050415Z
SEQUENCE:1
ORGANIZER;CN=W3C Calendar;PARTSTAT=ACCEPTED;ROLE=NON-PARTICIPANT:mailto:nor
 eply@w3.org
ATTENDEE;CUTYPE=GROUP;ROLE=OPT-PARTICIPANT;RSVP=FALSE;CN=MiniApps Ecosystem
  Community Group:mailto:public-miniapps@w3.org
END:VEVENT
END:VCALENDAR
