BEGIN:VCALENDAR
VERSION:2.0
PRODID:-//Sabre//Sabre VObject 4.5.8//EN
CALSCALE:GREGORIAN
LAST-MODIFIED:20220915T212055Z
BEGIN:VTIMEZONE
TZID:America/Vancouver
BEGIN:STANDARD
DTSTART:20211107T090000
TZOFFSETFROM:-0700
TZOFFSETTO:-0800
TZNAME:PST
END:STANDARD
BEGIN:STANDARD
DTSTART:20221106T090000
TZOFFSETFROM:-0700
TZOFFSETTO:-0800
TZNAME:PST
END:STANDARD
BEGIN:DAYLIGHT
DTSTART:20220313T100000
TZOFFSETFROM:-0800
TZOFFSETTO:-0700
TZNAME:PDT
END:DAYLIGHT
END:VTIMEZONE
BEGIN:VEVENT
UID:3c22aa6a-5530-4bb4-887c-60f3db7be98a
DTSTAMP:20220915T212055Z
SUMMARY:The Future of Cookies (in Web Standards)
DTSTART;TZID=America/Vancouver:20220914T150000
DTEND;TZID=America/Vancouver:20220914T160000
DESCRIPTION:https://www.w3.org/events/meetings/3c22aa6a-5530-4bb4-887c-60f3
 db7be98a/\n\nSome big changes to how cookies work in browsers make us reth
 ink how Fetch and HTML integrate with the cookies RFC and whether more coo
 kie behavior could be defined in browser land. Join us to learn about and 
 discuss the future of cookies in standards!\n\nAgenda\n\n**Facilitators & 
 speakers**: Johann Hofmann\n\n**Session type**: Short talk + open discussi
 on\n\n**Summary**: Some big changes to how cookies work in browsers make u
 s rethink how Fetch and HTML integrate with the cookies RFC and whether mo
 re cookie behavior could be defined in browser land. Join us to learn abou
 t and discuss the future of cookies in standards!\n\n**Goals**:\n- Give an
  overview of recent and upcoming cookies changes and get feedback on our i
 deas for evolving cookie specification across organizations.\n\n**Material
 s**:\n- [slides](https://www.w3.org/events/meetings/3c22aa6a-5530-4bb4-887
 c-60f3db7be98a)\n\nJoining Instructions: https://us02web.zoom.us/j/7729314
 923?pwd=Q0hIbWVQUFRqU1V6cWhYV1BXUHI1QT09\n\nChat\n\nhttps://irc.w3.org/?ch
 annels=%23cookie-future
STATUS:CONFIRMED
CREATED:20220909T111657Z
LAST-MODIFIED:20220915T212055Z
SEQUENCE:1
ORGANIZER;CN=W3C Calendar;PARTSTAT=ACCEPTED;ROLE=NON-PARTICIPANT:mailto:nor
 eply@w3.org
ATTENDEE;CN=Leonardo Balter:mailto:leobalter@salesforce.com
ATTENDEE;CN=Providence Baraka:mailto:barakaprovidence@gmail.com
ATTENDEE;CN=Curt Bellew:mailto:curt.bellew@oracle.com
ATTENDEE;CN=Vittorio Bertocci:mailto:vittorio@auth0.com
ATTENDEE;CN=Christian Biesinger:mailto:cbiesinger@google.com
ATTENDEE;CN=Steven Bingler:mailto:binglersteven@gmail.com
ATTENDEE;CN=Arnar Birgisson:mailto:arnarb@google.com
ATTENDEE;CN=Aykut Bulut:mailto:aykutb@google.com
ATTENDEE;CN=Judith Bush:mailto:idpro@grey-cat.com
ATTENDEE;CN=Brian Campbell:mailto:bcampbell@pingidentity.com
ATTENDEE;CN=Tim Cappalli:mailto:timcappalli@cloudauth.dev
ATTENDEE;CN=Gabe Cohen:mailto:gabe.l.cohen@gmail.com
ATTENDEE;CN=Alex Cone:mailto:alex.cone@iabtechlab.com
ATTENDEE;CN=Benjamin De Kosnik:mailto:bdekoz@mozilla.com
ATTENDEE;CN=Domenic Denicola:mailto:d@domenic.me
ATTENDEE;CN=Nick Doty:mailto:ndoty@cdt.org
ATTENDEE;CN=Karl Dubost:mailto:karl@la-grange.net
ATTENDEE;CN=Dominic Farolino:mailto:domfarolino@gmail.com
ATTENDEE;CN=Chris Fredrickson:mailto:cfredric@google.com
ATTENDEE;CN=Sam Goto:mailto:goto@google.com
ATTENDEE;CN=Yi Gu:mailto:yigu@google.com
ATTENDEE;CN=Hakan Isbiliroglu:mailto:hisbilir@google.com
ATTENDEE;CN=Jeff Jaffe:mailto:jaffe02445@gmail.com
ATTENDEE;CN=Artur Janc:mailto:aaj@google.com
ATTENDEE;CN=Kousuke Koiwai:mailto:ko-koiwai@kddi.com
ATTENDEE;CN=Anelia Kurteva:mailto:anelia.kurteva@sti2.at
ATTENDEE;CN=Tobie Langel:mailto:tobie@unlockopen.com
ATTENDEE;CN=Don Le:mailto:donle@article19.org
ATTENDEE;CN=Yifan Luo:mailto:lyf@google.com
ATTENDEE;CN=Guillermo Movia:mailto:gmovia@internetbolivia.org
ATTENDEE;CN=Graham Mudd:mailto:gmudd@mozilla.com
ATTENDEE;CN=Mark Nottingham:mailto:mnot@mnot.net
ATTENDEE;CN=Theresa O'Connor:mailto:hober@apple.com
ATTENDEE;CN=Michael O'Neill:mailto:mike@baycloud.ie
ATTENDEE;CN=Vinod Panicker:mailto:doniv@amazon.com
ATTENDEE;CN=Gregorio Pellegrino:mailto:gregorio.pellegrino@fondazionelia.or
 g
ATTENDEE;CN=Vincent Scheib:mailto:scheib@google.com
ATTENDEE;CN=Kyra Seevers:mailto:kyraseevers@google.com
ATTENDEE;CN=Rachit Sharma:mailto:rachit@iabtechlab.com
ATTENDEE;CN=Arthur SONZOGNI:mailto:arthursonzogni@google.com
ATTENDEE;CN=Russell Stringham:mailto:rstringh@adobe.com
ATTENDEE;CN=Tom Van Goethem:mailto:tov@google.com
ATTENDEE;CN=Jeffrey Yasskin:mailto:jyasskin@google.com
ATTENDEE;CN=Benjamin Young:mailto:byoung@bigbluehat.com
ATTENDEE;CN=Emma Zuehlcke:mailto:emz@mozilla.com
LOCATION:Junior CD — North Tower 3rd floor
CATEGORIES:TPAC 2022,Breakout Sessions
END:VEVENT
END:VCALENDAR
