BEGIN:VCALENDAR
VERSION:2.0
PRODID:-//Sabre//Sabre VObject 4.5.8//EN
CALSCALE:GREGORIAN
LAST-MODIFIED:20250213T112854Z
BEGIN:VTIMEZONE
TZID:Asia/Tokyo
X-MICROSOFT-CDO-TZID:20
BEGIN:STANDARD
DTSTART:20231225T010000
TZOFFSETFROM:+0900
TZOFFSETTO:+0900
TZNAME:JST
END:STANDARD
END:VTIMEZONE
BEGIN:VEVENT
UID:3bb4b32e-da64-48d2-bcc5-c4e2d3cd9684
DTSTAMP:20250213T112854Z
SUMMARY:MCM-JP CG Regular Meeting (19 December 2024)
DTSTART;TZID=Asia/Tokyo:20241219T100000
DTEND;TZID=Asia/Tokyo:20241219T113000
DESCRIPTION:https://www.w3.org/events/meetings/3bb4b32e-da64-48d2-bcc5-c4e2
 d3cd9684/\n\nMedia Content Metadata Japanese CGの定例会合です（202
 4年12月19日）\n\n---\n\nRegular meeting of the Media Content Metadata 
 Japanese CG (19 December 2024)\n\nAgenda: https://github.com/w3c-cg/mcm-jp
 /tree/main/meetings/2024-12-19
STATUS:CONFIRMED
CREATED:20241127T131137Z
LAST-MODIFIED:20250213T112854Z
SEQUENCE:1
ORGANIZER;CN=W3C Calendar;PARTSTAT=ACCEPTED;ROLE=NON-PARTICIPANT:mailto:nor
 eply@w3.org
ATTENDEE;CUTYPE=GROUP;ROLE=OPT-PARTICIPANT;RSVP=FALSE;CN=Media Content Meta
 data Japanese Community Group:mailto:public-mcm-jp@w3.org
LOCATION:Online
END:VEVENT
END:VCALENDAR
