BEGIN:VCALENDAR
VERSION:2.0
PRODID:-//Sabre//Sabre VObject 4.5.8//EN
CALSCALE:GREGORIAN
LAST-MODIFIED:20251103T174820Z
BEGIN:VTIMEZONE
TZID:Asia/Tokyo
X-MICROSOFT-CDO-TZID:20
BEGIN:STANDARD
DTSTART:20241118T000000
TZOFFSETFROM:+0900
TZOFFSETTO:+0900
TZNAME:JST
END:STANDARD
END:VTIMEZONE
BEGIN:VEVENT
UID:3b7d093a-cdbc-4d15-acad-99d77ed83d3f
DTSTAMP:20251103T174820Z
SUMMARY:Web of Things WG\, Web of Things IG joint meeting
DTSTART;TZID=Asia/Tokyo:20251113T090000
DTEND;TZID=Asia/Tokyo:20251113T164500
DESCRIPTION:https://www.w3.org/events/meetings/3b7d093a-cdbc-4d15-acad-99d7
 7ed83d3f/\n\n\n\nAgenda: https://www.w3.org/WoT/IG/wiki/Wiki_for_TPAC_2025
 _planning
STATUS:CONFIRMED
CREATED:20250716T142704Z
LAST-MODIFIED:20251103T174820Z
SEQUENCE:10
ORGANIZER;CN=W3C Calendar;PARTSTAT=ACCEPTED;ROLE=NON-PARTICIPANT:mailto:nor
 eply@w3.org
ATTENDEE;CUTYPE=GROUP;ROLE=OPT-PARTICIPANT;RSVP=FALSE;CN=Web of Things Inte
 rest Group:mailto:public-wot-ig@w3.org
ATTENDEE;CUTYPE=GROUP;ROLE=OPT-PARTICIPANT;RSVP=FALSE;CN=Web of Things Work
 ing Group:mailto:public-wot-wg@w3.org
LOCATION:Floor 3 - 302
CATEGORIES:TPAC 2025,Group Meetings
END:VEVENT
END:VCALENDAR
