BEGIN:VCALENDAR
VERSION:2.0
PRODID:-//Sabre//Sabre VObject 4.5.8//EN
CALSCALE:GREGORIAN
LAST-MODIFIED:20220914T232534Z
BEGIN:VTIMEZONE
TZID:America/Vancouver
BEGIN:STANDARD
DTSTART:20211107T090000
TZOFFSETFROM:-0700
TZOFFSETTO:-0800
TZNAME:PST
END:STANDARD
BEGIN:STANDARD
DTSTART:20221106T090000
TZOFFSETFROM:-0700
TZOFFSETTO:-0800
TZNAME:PST
END:STANDARD
BEGIN:DAYLIGHT
DTSTART:20220313T100000
TZOFFSETFROM:-0800
TZOFFSETTO:-0700
TZNAME:PDT
END:DAYLIGHT
END:VTIMEZONE
BEGIN:VEVENT
UID:3b43f7a6-caf4-4e07-a8e6-564741465618
DTSTAMP:20220914T232534Z
SUMMARY:Project Fugu 🐡: What we have enabled
DTSTART;TZID=America/Vancouver:20220914T163000
DTEND;TZID=America/Vancouver:20220914T173000
DESCRIPTION:https://www.w3.org/events/meetings/3b43f7a6-caf4-4e07-a8e6-5647
 41465618/\n\nA reflection of the apps that Project Fugu APIs have enabled\
 , including a brief exploration of the present\, the future of some of the
  enabling APIs\, and our vision and dreams for the future.\n\nAgenda\n\n**
 Facilitators & speakers**: Thomas Steiner\, Ben Morss\n\n**Session type**:
  talk\, followed by open discussion.\n\n**Summary**: A reflection of the a
 pps that Project Fugu APIs have enabled\, including a brief exploration of
  the present\, the future of some of the enabling APIs\, and our vision an
 d dreams for the future.\n\n**Goals**:\n- Reflect back and look forward.\n
 \nJoining Instructions: https://us02web.zoom.us/j/9051227671?pwd=dG8zZ0dzY
 VdDZHQ2QXVQaFhqSWw4UT09\n\nChat\n\nhttps://irc.w3.org/?channels=%23project
 -fugu
STATUS:CONFIRMED
CREATED:20220909T111707Z
LAST-MODIFIED:20220914T232534Z
SEQUENCE:1
ORGANIZER;CN=W3C Calendar;PARTSTAT=ACCEPTED;ROLE=NON-PARTICIPANT:mailto:nor
 eply@w3.org
ATTENDEE;CN=Elad Alon:mailto:eladalon@google.com
ATTENDEE;CN=Martin Alvarez-Espinar:mailto:martin.alvarez.espinar1@huawei.co
 m
ATTENDEE;CN=Rachel Andrew:mailto:rachelandrew@google.com
ATTENDEE;CN=Matthew Atkinson:mailto:m.atkinson@samsung.com
ATTENDEE;CN=Joshua Bell:mailto:jsbell@google.com
ATTENDEE;CN=Christian Biesinger:mailto:cbiesinger@google.com
ATTENDEE;CN=Florent Castelli:mailto:florent.castelli@gmail.com
ATTENDEE;CN=Kenneth Christiansen:mailto:kenneth.r.christiansen@intel.com
ATTENDEE;CN=Karl Dubost:mailto:karl@la-grange.net
ATTENDEE;CN=Rob Eisenberg:mailto:rob@bluespire.com
ATTENDEE;CN=Megan Gardner:mailto:megan_gardner@apple.com
ATTENDEE;CN=David Grogan:mailto:dgrogan@google.com
ATTENDEE;CN=Markku Hakkinen:mailto:mhakkinen@ets.org
ATTENDEE;CN=Hakan Isbiliroglu:mailto:hisbilir@google.com
ATTENDEE;CN=Ayu Ishii:mailto:ayui@google.com
ATTENDEE;CN=Masakazu Kitahara:mailto:mkitahara@voyager.co.jp
ATTENDEE;CN=Philippe Le Hegaret:mailto:plh@w3.org
ATTENDEE;CN=Christian Liebel:mailto:christian.liebel@thinktecture.com
ATTENDEE;CN=Michael McCool:mailto:michael.d.mccool@gmail.com
ATTENDEE;CN=Ben Morss:mailto:morss@google.com
ATTENDEE;CN=Vincent Scheib:mailto:scheib@google.com
ATTENDEE;CN=Austin Sullivan:mailto:asully@chromium.org
ATTENDEE;CN=Chris Wilson:mailto:cwilso@gmail.com
ATTENDEE;CN=Jeffrey Yasskin:mailto:jyasskin@google.com
ATTENDEE;CN=Ayşegül Yönet:mailto:aysegulyonet@gmail.com
LOCATION:Galiano — South Tower 4th floor
CATEGORIES:TPAC 2022,Breakout Sessions
END:VEVENT
END:VCALENDAR
