BEGIN:VCALENDAR
VERSION:2.0
PRODID:-//Sabre//Sabre VObject 4.5.8//EN
CALSCALE:GREGORIAN
LAST-MODIFIED:20240924T004735Z
BEGIN:VTIMEZONE
TZID:America/Los_Angeles
X-MICROSOFT-CDO-TZID:13
BEGIN:STANDARD
DTSTART:20231105T090000
TZOFFSETFROM:-0700
TZOFFSETTO:-0800
TZNAME:PST
END:STANDARD
BEGIN:STANDARD
DTSTART:20241103T090000
TZOFFSETFROM:-0700
TZOFFSETTO:-0800
TZNAME:PST
END:STANDARD
BEGIN:DAYLIGHT
DTSTART:20240310T100000
TZOFFSETFROM:-0800
TZOFFSETTO:-0700
TZNAME:PDT
END:DAYLIGHT
END:VTIMEZONE
BEGIN:VEVENT
UID:3abb0d62-fb42-4d03-847f-d57393c85607
DTSTAMP:20240924T004735Z
SUMMARY:WebExtensions Community Group
DTSTART;TZID=America/Los_Angeles:20240926T110000
DTEND;TZID=America/Los_Angeles:20240926T123000
DESCRIPTION:https://www.w3.org/events/meetings/3abb0d62-fb42-4d03-847f-d573
 93c85607/\n\n\n\nAgenda: https://github.com/w3c/webextensions/wiki/TPAC-20
 24-Coordination#thursday
STATUS:CONFIRMED
CREATED:20240704T125808Z
LAST-MODIFIED:20240924T004735Z
SEQUENCE:4
ORGANIZER;CN=W3C Calendar;PARTSTAT=ACCEPTED;ROLE=NON-PARTICIPANT:mailto:nor
 eply@w3.org
ATTENDEE;CUTYPE=GROUP;ROLE=OPT-PARTICIPANT;RSVP=FALSE;CN=WebExtensions Comm
 unity Group:mailto:public-webextensions@w3.org
LOCATION:-1 Lower Level - Catalina 7
CATEGORIES:TPAC 2024,Group Meetings
END:VEVENT
END:VCALENDAR
