BEGIN:VCALENDAR
VERSION:2.0
PRODID:-//Sabre//Sabre VObject 4.5.8//EN
CALSCALE:GREGORIAN
LAST-MODIFIED:20240402T200533Z
BEGIN:VTIMEZONE
TZID:America/New_York
X-MICROSOFT-CDO-TZID:10
BEGIN:STANDARD
DTSTART:20231105T060000
TZOFFSETFROM:-0400
TZOFFSETTO:-0500
TZNAME:EST
END:STANDARD
BEGIN:STANDARD
DTSTART:20241103T060000
TZOFFSETFROM:-0400
TZOFFSETTO:-0500
TZNAME:EST
END:STANDARD
BEGIN:DAYLIGHT
DTSTART:20240310T070000
TZOFFSETFROM:-0500
TZOFFSETTO:-0400
TZNAME:EDT
END:DAYLIGHT
END:VTIMEZONE
BEGIN:VEVENT
UID:398465c7-3787-40df-856a-434a438d9f05
DTSTAMP:20240402T200533Z
SUMMARY:JSON-LD WG Meeting
DTSTART;TZID=America/New_York:20240403T120000
DTEND;TZID=America/New_York:20240403T125500
DESCRIPTION:https://www.w3.org/events/meetings/398465c7-3787-40df-856a-434a
 438d9f05/20240403T120000/\n\nRechartering the JSON-LD WG will be the prima
 ry topic of this call along with the work and documents we hope to rechart
 er to specify.\n\nAgenda\n\n1. Announcements and Introductions\n----------
 ---------------------------\n\n2. Rechartering Process\n------------\n\n3.
  Specs to include in the new WG\n------------\n\n3. a. YAML-LD\n----------
 --\n\n3. b. CBOR-LD\n------------\n\n3. c. JSON-LD-star (based on RDF-star
 )\n------------\n\n3. d. JSON-LD 1.2\n------------\n\nJSON-LD 1.2 is initi
 ally being considered to be built from the following:\n\n    * Open Errata
 \n    * Previously worked on issues and pull requests\n    * Synchronizati
 on with RDF 1.2 / RDF-star\n    * Issues deferred from earlier WGs\n\n4. O
 pen Discussion\n-------------------\n\nOpen discussion and "Ask me Anythin
 g" on JSON-LD topics.\n\n6. Next call\n---------------------
STATUS:CONFIRMED
CREATED:20240402T200533Z
LAST-MODIFIED:20240402T200533Z
SEQUENCE:2
ORGANIZER;CN=W3C Calendar;PARTSTAT=ACCEPTED;ROLE=NON-PARTICIPANT:mailto:nor
 eply@w3.org
ATTENDEE;CUTYPE=GROUP;ROLE=OPT-PARTICIPANT;RSVP=FALSE;CN=JSON-LD Working Gr
 oup:mailto:public-json-ld-wg@w3.org
RECURRENCE-ID;TZID=America/New_York:20240403T120000
END:VEVENT
END:VCALENDAR
