BEGIN:VCALENDAR
VERSION:2.0
PRODID:-//Sabre//Sabre VObject 4.5.8//EN
CALSCALE:GREGORIAN
LAST-MODIFIED:20260205T171328Z
BEGIN:VTIMEZONE
TZID:Etc/UTC
BEGIN:STANDARD
DTSTART:20250414T170000
TZOFFSETFROM:+0000
TZOFFSETTO:+0000
TZNAME:UTC
END:STANDARD
END:VTIMEZONE
BEGIN:VEVENT
UID:38af820b-976b-4913-b234-4f8be3cd2de9
DTSTAMP:20260205T171328Z
SUMMARY:Manifest Working Session (EU/US)
DTSTART;TZID=Etc/UTC:20260409T170000
DTEND;TZID=Etc/UTC:20260409T180000
DESCRIPTION:https://www.w3.org/events/meetings/38af820b-976b-4913-b234-4f8b
 e3cd2de9/20260409T170000/\n\n
STATUS:TENTATIVE
CREATED:20260205T171327Z
LAST-MODIFIED:20260205T171328Z
SEQUENCE:1
ORGANIZER;CN=W3C Calendar;PARTSTAT=ACCEPTED;ROLE=NON-PARTICIPANT:mailto:nor
 eply@w3.org
ATTENDEE;CUTYPE=GROUP;ROLE=OPT-PARTICIPANT;RSVP=FALSE;CN=Web Applications W
 orking Group:mailto:public-webapps@w3.org
RECURRENCE-ID;TZID=Etc/UTC:20260409T170000
END:VEVENT
END:VCALENDAR
