BEGIN:VCALENDAR
VERSION:2.0
PRODID:-//Sabre//Sabre VObject 4.5.8//EN
CALSCALE:GREGORIAN
LAST-MODIFIED:20231213T052517Z
BEGIN:VTIMEZONE
TZID:America/Los_Angeles
X-MICROSOFT-CDO-TZID:13
BEGIN:STANDARD
DTSTART:20221106T090000
TZOFFSETFROM:-0700
TZOFFSETTO:-0800
TZNAME:PST
END:STANDARD
BEGIN:STANDARD
DTSTART:20231105T090000
TZOFFSETFROM:-0700
TZOFFSETTO:-0800
TZNAME:PST
END:STANDARD
BEGIN:STANDARD
DTSTART:20241103T090000
TZOFFSETFROM:-0700
TZOFFSETTO:-0800
TZNAME:PST
END:STANDARD
BEGIN:DAYLIGHT
DTSTART:20230312T100000
TZOFFSETFROM:-0800
TZOFFSETTO:-0700
TZNAME:PDT
END:DAYLIGHT
BEGIN:DAYLIGHT
DTSTART:20240310T100000
TZOFFSETFROM:-0800
TZOFFSETTO:-0700
TZNAME:PDT
END:DAYLIGHT
END:VTIMEZONE
BEGIN:VEVENT
UID:3857d3dd-cc4b-498e-8e09-de23eaec98ad
DTSTAMP:20231213T052514Z
SUMMARY:Color CG telecon
DTSTART;TZID=America/Los_Angeles:20231213T100000
DTEND;TZID=America/Los_Angeles:20231213T110000
DESCRIPTION:https://www.w3.org/events/meetings/3857d3dd-cc4b-498e-8e09-de23
 eaec98ad/\n\nRecurring meeting of the COLOR ON THE WEB COMMUNITY GROUP (ht
 tps://www.w3.org/community/colorweb/)
STATUS:CANCELLED
CREATED:20231213T052114Z
LAST-MODIFIED:20231213T052514Z
SEQUENCE:1
ORGANIZER;CN=W3C Calendar;PARTSTAT=ACCEPTED;ROLE=NON-PARTICIPANT:mailto:nor
 eply@w3.org
ATTENDEE;CUTYPE=GROUP;ROLE=OPT-PARTICIPANT;RSVP=FALSE;CN=Color on the Web C
 ommunity Group:mailto:public-colorweb@w3.org
RELATED-TO:25e467e1-6a81-42eb-bd96-f87551efb751
RRULE:FREQ=WEEKLY;UNTIL=20240529T170000Z;INTERVAL=2;BYDAY=WE;WKST=MO
END:VEVENT
BEGIN:VEVENT
UID:25e467e1-6a81-42eb-bd96-f87551efb751
DTSTAMP:20231213T052517Z
SUMMARY:Color CG telecon
DTSTART;TZID=America/Los_Angeles:20230906T100000
DTEND;TZID=America/Los_Angeles:20230906T110000
DESCRIPTION:https://www.w3.org/events/meetings/25e467e1-6a81-42eb-bd96-f875
 51efb751/\n\nRecurring meeting of the COLOR ON THE WEB COMMUNITY GROUP (ht
 tps://www.w3.org/community/colorweb/)
STATUS:CONFIRMED
CREATED:20230712T042732Z
LAST-MODIFIED:20231213T052517Z
SEQUENCE:1
ORGANIZER;CN=W3C Calendar;PARTSTAT=ACCEPTED;ROLE=NON-PARTICIPANT:mailto:nor
 eply@w3.org
ATTENDEE;CUTYPE=GROUP;ROLE=OPT-PARTICIPANT;RSVP=FALSE;CN=Color on the Web C
 ommunity Group:mailto:public-colorweb@w3.org
RRULE:FREQ=WEEKLY;UNTIL=20231129T180000Z;INTERVAL=2;BYDAY=WE;WKST=MO
RELATED-TO:3857d3dd-cc4b-498e-8e09-de23eaec98ad
END:VEVENT
BEGIN:VEVENT
UID:25e467e1-6a81-42eb-bd96-f87551efb751
DTSTAMP:20230920T134320Z
SUMMARY:Color CG telecon
DTSTART;TZID=America/Los_Angeles:20230920T100000
DTEND;TZID=America/Los_Angeles:20230920T110000
DESCRIPTION:https://www.w3.org/events/meetings/25e467e1-6a81-42eb-bd96-f875
 51efb751/20230920T100000/\n\nRecurring meeting of the COLOR ON THE WEB COM
 MUNITY GROUP (https://www.w3.org/community/colorweb/)
STATUS:CANCELLED
CREATED:20230920T134317Z
LAST-MODIFIED:20230920T134320Z
SEQUENCE:1
ORGANIZER;CN=W3C Calendar;PARTSTAT=ACCEPTED;ROLE=NON-PARTICIPANT:mailto:nor
 eply@w3.org
ATTENDEE;CUTYPE=GROUP;ROLE=OPT-PARTICIPANT;RSVP=FALSE;CN=Color on the Web C
 ommunity Group:mailto:public-colorweb@w3.org
RECURRENCE-ID;TZID=America/Los_Angeles:20230920T100000
END:VEVENT
BEGIN:VEVENT
UID:25e467e1-6a81-42eb-bd96-f87551efb751
DTSTAMP:20231129T044743Z
SUMMARY:Color CG telecon
DTSTART;TZID=America/Los_Angeles:20231129T100000
DTEND;TZID=America/Los_Angeles:20231129T110000
DESCRIPTION:https://www.w3.org/events/meetings/25e467e1-6a81-42eb-bd96-f875
 51efb751/20231129T100000/\n\nRecurring meeting of the COLOR ON THE WEB COM
 MUNITY GROUP (https://www.w3.org/community/colorweb/)
STATUS:CANCELLED
CREATED:20231129T044741Z
LAST-MODIFIED:20231129T044743Z
SEQUENCE:1
ORGANIZER;CN=W3C Calendar;PARTSTAT=ACCEPTED;ROLE=NON-PARTICIPANT:mailto:nor
 eply@w3.org
ATTENDEE;CUTYPE=GROUP;ROLE=OPT-PARTICIPANT;RSVP=FALSE;CN=Color on the Web C
 ommunity Group:mailto:public-colorweb@w3.org
RECURRENCE-ID;TZID=America/Los_Angeles:20231129T100000
END:VEVENT
END:VCALENDAR
